BEGIN:VCALENDAR
VERSION:2.0
PRODID:-//LBHOA - ECPv6.15.16.1//NONSGML v1.0//EN
CALSCALE:GREGORIAN
METHOD:PUBLISH
X-WR-CALNAME:LBHOA
X-ORIGINAL-URL:https://www.lbhoa.org
X-WR-CALDESC:Events for LBHOA
REFRESH-INTERVAL;VALUE=DURATION:PT1H
X-Robots-Tag:noindex
X-PUBLISHED-TTL:PT1H
BEGIN:VTIMEZONE
TZID:America/Los_Angeles
BEGIN:DAYLIGHT
TZOFFSETFROM:-0800
TZOFFSETTO:-0700
TZNAME:PDT
DTSTART:20220313T100000
END:DAYLIGHT
BEGIN:STANDARD
TZOFFSETFROM:-0700
TZOFFSETTO:-0800
TZNAME:PST
DTSTART:20221106T090000
END:STANDARD
BEGIN:DAYLIGHT
TZOFFSETFROM:-0800
TZOFFSETTO:-0700
TZNAME:PDT
DTSTART:20230312T100000
END:DAYLIGHT
BEGIN:STANDARD
TZOFFSETFROM:-0700
TZOFFSETTO:-0800
TZNAME:PST
DTSTART:20231105T090000
END:STANDARD
BEGIN:DAYLIGHT
TZOFFSETFROM:-0800
TZOFFSETTO:-0700
TZNAME:PDT
DTSTART:20240310T100000
END:DAYLIGHT
BEGIN:STANDARD
TZOFFSETFROM:-0700
TZOFFSETTO:-0800
TZNAME:PST
DTSTART:20241103T090000
END:STANDARD
END:VTIMEZONE
BEGIN:VEVENT
DTSTART;TZID=America/Los_Angeles:20231108T130000
DTEND;TZID=America/Los_Angeles:20231108T153000
DTSTAMP:20260425T104611
CREATED:20231018T220132Z
LAST-MODIFIED:20231018T220132Z
UID:6687-1699448400-1699457400@www.lbhoa.org
SUMMARY:The Upside of Aging--Getting Good at Getting Older
DESCRIPTION:The LBHOA is pleased to pass along information on this event being hosted by the Palos Verdes Peninsula Village\, a community-based organization that empowers its members to live healthfully\, happily and successfully in their own homes as they age. \n 
URL:https://www.lbhoa.org/event/the-upside-of-aging-getting-good-at-getting-older/
LOCATION:Palos Verdes Golf Club\, 3301 Via Campesina\, Palos Verdes Estates\, CA\, 90274\, United States
END:VEVENT
END:VCALENDAR