BEGIN:VCALENDAR
VERSION:2.0
PRODID:-//LBHOA - ECPv6.15.16.1//NONSGML v1.0//EN
CALSCALE:GREGORIAN
METHOD:PUBLISH
X-ORIGINAL-URL:https://www.lbhoa.org
X-WR-CALDESC:Events for LBHOA
REFRESH-INTERVAL;VALUE=DURATION:PT1H
X-Robots-Tag:noindex
X-PUBLISHED-TTL:PT1H
BEGIN:VTIMEZONE
TZID:America/Los_Angeles
BEGIN:DAYLIGHT
TZOFFSETFROM:-0800
TZOFFSETTO:-0700
TZNAME:PDT
DTSTART:20220313T100000
END:DAYLIGHT
BEGIN:STANDARD
TZOFFSETFROM:-0700
TZOFFSETTO:-0800
TZNAME:PST
DTSTART:20221106T090000
END:STANDARD
BEGIN:DAYLIGHT
TZOFFSETFROM:-0800
TZOFFSETTO:-0700
TZNAME:PDT
DTSTART:20230312T100000
END:DAYLIGHT
BEGIN:STANDARD
TZOFFSETFROM:-0700
TZOFFSETTO:-0800
TZNAME:PST
DTSTART:20231105T090000
END:STANDARD
BEGIN:DAYLIGHT
TZOFFSETFROM:-0800
TZOFFSETTO:-0700
TZNAME:PDT
DTSTART:20240310T100000
END:DAYLIGHT
BEGIN:STANDARD
TZOFFSETFROM:-0700
TZOFFSETTO:-0800
TZNAME:PST
DTSTART:20241103T090000
END:STANDARD
END:VTIMEZONE
BEGIN:VEVENT
DTSTART;TZID=America/Los_Angeles:20231213T160000
DTEND;TZID=America/Los_Angeles:20231213T190000
DTSTAMP:20260425T090540
CREATED:20231121T205225Z
LAST-MODIFIED:20231128T235427Z
UID:6716-1702483200-1702494000@www.lbhoa.org
SUMMARY:Santa-in-the-Park!
DESCRIPTION:
URL:https://www.lbhoa.org/event/santa-in-the-park-4/
LOCATION:Lunada Bay Plaza\, 2201 Palos Verdes Drive West\, Palos Verdes Estates\, CA\, 90274\, United States
END:VEVENT
END:VCALENDAR