BEGIN:VCALENDAR
VERSION:2.0
PRODID:-//LBHOA - ECPv6.15.16.1//NONSGML v1.0//EN
CALSCALE:GREGORIAN
METHOD:PUBLISH
X-ORIGINAL-URL:https://www.lbhoa.org
X-WR-CALDESC:Events for LBHOA
REFRESH-INTERVAL;VALUE=DURATION:PT1H
X-Robots-Tag:noindex
X-PUBLISHED-TTL:PT1H
BEGIN:VTIMEZONE
TZID:America/Los_Angeles
BEGIN:DAYLIGHT
TZOFFSETFROM:-0800
TZOFFSETTO:-0700
TZNAME:PDT
DTSTART:20240310T100000
END:DAYLIGHT
BEGIN:STANDARD
TZOFFSETFROM:-0700
TZOFFSETTO:-0800
TZNAME:PST
DTSTART:20241103T090000
END:STANDARD
BEGIN:DAYLIGHT
TZOFFSETFROM:-0800
TZOFFSETTO:-0700
TZNAME:PDT
DTSTART:20250309T100000
END:DAYLIGHT
BEGIN:STANDARD
TZOFFSETFROM:-0700
TZOFFSETTO:-0800
TZNAME:PST
DTSTART:20251102T090000
END:STANDARD
BEGIN:DAYLIGHT
TZOFFSETFROM:-0800
TZOFFSETTO:-0700
TZNAME:PDT
DTSTART:20260308T100000
END:DAYLIGHT
BEGIN:STANDARD
TZOFFSETFROM:-0700
TZOFFSETTO:-0800
TZNAME:PST
DTSTART:20261101T090000
END:STANDARD
END:VTIMEZONE
BEGIN:VEVENT
DTSTART;TZID=America/Los_Angeles:20250824T160000
DTEND;TZID=America/Los_Angeles:20250824T180000
DTSTAMP:20260423T224040
CREATED:20250602T233647Z
LAST-MODIFIED:20250602T233647Z
UID:7783-1756051200-1756058400@www.lbhoa.org
SUMMARY:Concert-in-the-Park: Tenn West
DESCRIPTION:Two thousand miles west of Tennessee\, a band of veteran musicians came together to create a sound that can only be described as California Country. \nLooking forward to celebrating country music and rock n’ roll with you this summer! \nSee you soon! \nTenn West
URL:https://www.lbhoa.org/event/concert-in-the-park-tenn-west-2/
LOCATION:Lunada Bay Park\, 2201 Palos Verdes Dr W\, Palos Verdes Estates\, CA\, 90274
END:VEVENT
END:VCALENDAR