BEGIN:VCALENDAR
VERSION:2.0
PRODID:-//LBHOA - ECPv6.15.16.1//NONSGML v1.0//EN
CALSCALE:GREGORIAN
METHOD:PUBLISH
X-WR-CALNAME:LBHOA
X-ORIGINAL-URL:https://www.lbhoa.org
X-WR-CALDESC:Events for LBHOA
REFRESH-INTERVAL;VALUE=DURATION:PT1H
X-Robots-Tag:noindex
X-PUBLISHED-TTL:PT1H
BEGIN:VTIMEZONE
TZID:America/Los_Angeles
BEGIN:DAYLIGHT
TZOFFSETFROM:-0800
TZOFFSETTO:-0700
TZNAME:PDT
DTSTART:20230312T100000
END:DAYLIGHT
BEGIN:STANDARD
TZOFFSETFROM:-0700
TZOFFSETTO:-0800
TZNAME:PST
DTSTART:20231105T090000
END:STANDARD
BEGIN:DAYLIGHT
TZOFFSETFROM:-0800
TZOFFSETTO:-0700
TZNAME:PDT
DTSTART:20240310T100000
END:DAYLIGHT
BEGIN:STANDARD
TZOFFSETFROM:-0700
TZOFFSETTO:-0800
TZNAME:PST
DTSTART:20241103T090000
END:STANDARD
BEGIN:DAYLIGHT
TZOFFSETFROM:-0800
TZOFFSETTO:-0700
TZNAME:PDT
DTSTART:20250309T100000
END:DAYLIGHT
BEGIN:STANDARD
TZOFFSETFROM:-0700
TZOFFSETTO:-0800
TZNAME:PST
DTSTART:20251102T090000
END:STANDARD
BEGIN:DAYLIGHT
TZOFFSETFROM:-0800
TZOFFSETTO:-0700
TZNAME:PDT
DTSTART:20260308T100000
END:DAYLIGHT
BEGIN:STANDARD
TZOFFSETFROM:-0700
TZOFFSETTO:-0800
TZNAME:PST
DTSTART:20261101T090000
END:STANDARD
BEGIN:DAYLIGHT
TZOFFSETFROM:-0800
TZOFFSETTO:-0700
TZNAME:PDT
DTSTART:20270314T100000
END:DAYLIGHT
BEGIN:STANDARD
TZOFFSETFROM:-0700
TZOFFSETTO:-0800
TZNAME:PST
DTSTART:20271107T090000
END:STANDARD
END:VTIMEZONE
BEGIN:VEVENT
DTSTART;TZID=America/Los_Angeles:20260418T090000
DTEND;TZID=America/Los_Angeles:20260418T110000
DTSTAMP:20260423T142657
CREATED:20260408T045817Z
LAST-MODIFIED:20260408T050003Z
UID:8202-1776502800-1776510000@www.lbhoa.org
SUMMARY:Callie’s Community Clean-Up
DESCRIPTION:Callie’s Community Clean-Up\, led by high schooler Addy Starr\, is hosting their sixth community clean-up on Saturday\, April 18th\, from 9:00 to 11:00 a.m. The event was inspired by her experience noticing all the trash around the neighborhood when walking her dog\, Callie. We will meet at the Lunada Bay Park (up by the Lunada Market between Vía Anacapa and Palos Verdes Drive West). We will be providing trash bags\, water\, and gloves. \nVolunteers will start picking up trash at the park and can spread throughout the neighborhood; we recommend along PVHS and the bluffs.
URL:https://www.lbhoa.org/event/callies-community-clean-up-3/
LOCATION:Lunada Bay Park\, 2201 Palos Verdes Dr W\, Palos Verdes Estates\, CA\, 90274
END:VEVENT
BEGIN:VEVENT
DTSTART;TZID=America/Los_Angeles:20260418T080000
DTEND;TZID=America/Los_Angeles:20260418T120000
DTSTAMP:20260423T142657
CREATED:20260415T035638Z
LAST-MODIFIED:20260415T040614Z
UID:8218-1776499200-1776513600@www.lbhoa.org
SUMMARY:Free Compost
DESCRIPTION:
URL:https://www.lbhoa.org/event/free-compost-3/
END:VEVENT
BEGIN:VEVENT
DTSTART;TZID=America/Los_Angeles:20260418T080000
DTEND;TZID=America/Los_Angeles:20260418T120000
DTSTAMP:20260423T142657
CREATED:20260415T034621Z
LAST-MODIFIED:20260415T034621Z
UID:8216-1776499200-1776513600@www.lbhoa.org
SUMMARY:Shred & E-Waste Collection Event
DESCRIPTION:PALOS VERDES HIGH SCHOOL PARKING LOT\n600 Cloyden Road\, Palos Verdes Estates\, CA 90274\n  \nACCEPTABLE E-WASTE ITEMS: \nTV’s  \nPrinters DVD players Computers Etc.  \nNOT ACCEPTABLE  \nNo hazardous waste  \n(such as paint\, oil\, light bulbs\, etc.) will be accepted.  \nFOR MORE INFORMATION\, PLEASE CONTACT CITY HALL (310) 378-0383 OR ATHENS (888) 336-6100. 
URL:https://www.lbhoa.org/event/shred-e-waste-collection-event/
END:VEVENT
BEGIN:VEVENT
DTSTART;TZID=America/Los_Angeles:20260416T090000
DTEND;TZID=America/Los_Angeles:20260416T100000
DTSTAMP:20260423T142657
CREATED:20260408T045229Z
LAST-MODIFIED:20260415T035254Z
UID:8198-1776330000-1776333600@www.lbhoa.org
SUMMARY:Coffee with PVE Mayor and City Manager
DESCRIPTION:Mayor Michael Kemps and City Manager Kerry Kallman will be at Lunada Kitchen at 9:00 AM on Thursday April 16 for an informal gathering to answer questions from residents and share information about what’s happening in the city that affects the Lunada Bay area and residents. The Market is donating drip coffee for the event; lattes\, pastries and breakfast will be available for purchase.
URL:https://www.lbhoa.org/event/coffee-with-pve-mayor-and-city-manager/
LOCATION:Lunada Kitchen\, 2201 Palos Verdes Drive West\, Palos Verdes Estates\, CA\, 90274\, United States
END:VEVENT
BEGIN:VEVENT
DTSTART;TZID=America/Los_Angeles:20251218T150000
DTEND;TZID=America/Los_Angeles:20251218T180000
DTSTAMP:20260423T142657
CREATED:20251205T021333Z
LAST-MODIFIED:20251217T190225Z
UID:8127-1766070000-1766080800@www.lbhoa.org
SUMMARY:Santa in the Park
DESCRIPTION:
URL:https://www.lbhoa.org/event/santa-in-the-park-5/
LOCATION:Lunada Bay Park\, 2201 Palos Verdes Dr W\, Palos Verdes Estates\, CA\, 90274
END:VEVENT
BEGIN:VEVENT
DTSTART;TZID=America/Los_Angeles:20251214T090000
DTEND;TZID=America/Los_Angeles:20251214T110000
DTSTAMP:20260423T142657
CREATED:20251205T023542Z
LAST-MODIFIED:20251205T023542Z
UID:8131-1765702800-1765710000@www.lbhoa.org
SUMMARY:Callie's Community Clean-Up
DESCRIPTION:
URL:https://www.lbhoa.org/event/callies-community-clean-up-2/
END:VEVENT
BEGIN:VEVENT
DTSTART;TZID=America/Los_Angeles:20251026T140000
DTEND;TZID=America/Los_Angeles:20251026T180000
DTSTAMP:20260423T142657
CREATED:20251012T234707Z
LAST-MODIFIED:20251021T234750Z
UID:8010-1761487200-1761501600@www.lbhoa.org
SUMMARY:2025 Harvest Festival
DESCRIPTION:  \n \nSchedule of Events: \nThe Harvest Festival event runs from 2:00pm-6:00pm with a trackless train\, face painting\, caricature artist\, numerous booths\, and live music throughout the event. \n\n\n\n\nTime\n\n\nEvent\n\n\n\n2:00pm – 3:00pm\nPumpkin Race check-in\n\n\n3:00pm\nPumpkin Races Start\n\n\n4:30pm – 6pm\nBig Heart Band Performs\n\n\n\nPumpkin Race duration depends on how many pumpkin entries we get\, but generally lasts an hour- hour and a half.\n  \n\nContestants provide their own pumpkin. Pumpkin wheel kits are available for purchase at Lunada Bay Hardware store for $40. They also offer installation service of the axles and wheels for $25\, as long as you bring your pumpkin and kit to them before closing (6pm) on Saturday 10/25. For race day installation\, the price increases to $35.\n\nPlease note: The Harvest Festival is free for all members of our community; however\, there will be a $30 fee for non-members to participate in the Pumpkin Race.\n \nLoading… \nWe would like to thank our sponsors who\, along with our members\, make this event possible:
URL:https://www.lbhoa.org/event/2025-harvest-festival/
LOCATION:Lunada Bay Park\, 2201 Palos Verdes Dr W\, Palos Verdes Estates\, CA\, 90274
END:VEVENT
BEGIN:VEVENT
DTSTART;TZID=America/Los_Angeles:20251018T170000
DTEND;TZID=America/Los_Angeles:20251018T200000
DTSTAMP:20260423T142657
CREATED:20250916T210551Z
LAST-MODIFIED:20250916T210551Z
UID:7998-1760806800-1760817600@www.lbhoa.org
SUMMARY:Diwali--Lunada Bay's Festival of Lights
DESCRIPTION:
URL:https://www.lbhoa.org/event/diwali-lunada-bays-festival-of-lights-2/
LOCATION:Lunada Bay Park\, 2201 Palos Verdes Dr W\, Palos Verdes Estates\, CA\, 90274
END:VEVENT
BEGIN:VEVENT
DTSTART;TZID=America/Los_Angeles:20250923T190000
DTEND;TZID=America/Los_Angeles:20250923T203000
DTSTAMP:20260423T142657
CREATED:20250916T205855Z
LAST-MODIFIED:20250916T205855Z
UID:7993-1758654000-1758659400@www.lbhoa.org
SUMMARY:LBHOA Town Hall Meeting
DESCRIPTION:The Lunada Bay Homeowners Association (LBHOA) Board of Directors is holding an open meeting in the Multipurpose Room at Lunada Bay Elementary School to provide an overview of recent activities organized by LBHOA and to solicit ideas and suggestions for new projects that might “maintain and improve the quality of life” in our unique community. \nA bit of background:  In the fall of 1999\, enthusiastic residents of the Lunada Bay community met and formed a committee to address their common goals. Noting that it takes a love of community\, respect for our surroundings\, and a willingness to work to improve the unique setting we live in\, founders said the role of the LBHOA should be to: \n\nMaintain and improve the quality of life in Lunada Bay and foster projects to achieve that goal\,\nPromote and encourage participation of residents in community activities and civic affairs\,\nBring to the attention of elected officials City matters that are important to our residents and offer suggested resolutions.\n\nFor over 20 years\, LBHOA volunteers have developed and participated in community-led projects that support these original goals. \nPlease join us on September 23. We look forward to your input. \nBill Ailor\, President\nLunada Bay Homeowners Association
URL:https://www.lbhoa.org/event/lbhoa-town-hall-meeting/
LOCATION:Lunada Bay Elementary School Multi-Purpose Room\, 520 Paseo Lunado\, Palos Verdes Estates\, CA\, 90274\, United States
END:VEVENT
BEGIN:VEVENT
DTSTART;TZID=America/Los_Angeles:20250920T080000
DTEND;TZID=America/Los_Angeles:20250920T170000
DTSTAMP:20260423T142657
CREATED:20250919T180159Z
LAST-MODIFIED:20250919T180310Z
UID:8000-1758355200-1758387600@www.lbhoa.org
SUMMARY:Bulky Item/E-Waste Event
DESCRIPTION:Mark your calendars! Athens Services will provide a free curbside pick-up for bulky waste and electronic waste on Saturday\, September 20\, 2025 \n\nBulky Waste: furniture\, appliances\, mattresses\, and similar large household items\nE-Waste: televisions\, computers\, monitors\, printers\, and other electronics\n\nAll items must be places at the curb – not in the street – by 6:00 AM on the morning of the event \n \n\n\n\n\n\nBulky Waste includes large items that do not fit into barrels or bins such as:  water heaters\, furnaces\, bed springs\, mattresses\, dressers\, couches\, washers\, dryers\, stoves\, tables\, chairs\, refrigerators (compressors removed)\, freezers\, air conditioners\, and patio furniture.  These items are to be placed curbside (not in the street). \nE-waste includes TV’s\, radios\, printers\, DVD Players\, computers\, monitors\, microwaves\, etc. For additional information on e-waste and e-waste collection\, please visit the E-waste webpage. \nNote: Hazardous waste\, batteries and fluorescent lights will be accepted at the 1st Quarter event only. To dispose of these items at other times\, and to dispose of all other hazardous waste\, please visit the Used Oil and Household Hazardous Waste webpage.
URL:https://www.lbhoa.org/event/bulky-item-e-waste-event/
END:VEVENT
BEGIN:VEVENT
DTSTART;TZID=America/Los_Angeles:20250824T160000
DTEND;TZID=America/Los_Angeles:20250824T180000
DTSTAMP:20260423T142657
CREATED:20250602T233647Z
LAST-MODIFIED:20250602T233647Z
UID:7783-1756051200-1756058400@www.lbhoa.org
SUMMARY:Concert-in-the-Park: Tenn West
DESCRIPTION:Two thousand miles west of Tennessee\, a band of veteran musicians came together to create a sound that can only be described as California Country. \nLooking forward to celebrating country music and rock n’ roll with you this summer! \nSee you soon! \nTenn West
URL:https://www.lbhoa.org/event/concert-in-the-park-tenn-west-2/
LOCATION:Lunada Bay Park\, 2201 Palos Verdes Dr W\, Palos Verdes Estates\, CA\, 90274
END:VEVENT
BEGIN:VEVENT
DTSTART;TZID=America/Los_Angeles:20250727T160000
DTEND;TZID=America/Los_Angeles:20250727T180000
DTSTAMP:20260423T142657
CREATED:20250602T173027Z
LAST-MODIFIED:20250602T173123Z
UID:7753-1753632000-1753639200@www.lbhoa.org
SUMMARY:Concert-in-the-Park: The New Originals
DESCRIPTION:The New Originals is the ultimate high-energy cover band. They play the hits of the 70s and 80s with amazing female vocals and an infectious groove that keeps dance floors packed!
URL:https://www.lbhoa.org/event/concert-in-the-park-the-new-originals/
LOCATION:Lunada Bay Park\, 2201 Palos Verdes Dr W\, Palos Verdes Estates\, CA\, 90274
END:VEVENT
BEGIN:VEVENT
DTSTART;TZID=America/Los_Angeles:20250717T194500
DTEND;TZID=America/Los_Angeles:20250717T194500
DTSTAMP:20260423T142657
CREATED:20250713T225520Z
LAST-MODIFIED:20250713T225520Z
UID:7907-1752781500-1752781500@www.lbhoa.org
SUMMARY:Unveiling of the Restored Neptune Fountain
DESCRIPTION:
URL:https://www.lbhoa.org/event/unveiling-of-the-restored-neptune-fountain/
LOCATION:Malaga Cove Plaza\, Neptune Fountain\, Palos Verdes Estates\, CA 90274\, Palos Verdes Estates\, CA\, 90274\, United States
END:VEVENT
BEGIN:VEVENT
DTSTART;TZID=America/Los_Angeles:20250706T170000
DTEND;TZID=America/Los_Angeles:20250706T190000
DTSTAMP:20260423T142657
CREATED:20250602T163928Z
LAST-MODIFIED:20250602T170337Z
UID:7740-1751821200-1751828400@www.lbhoa.org
SUMMARY:Concert-in-the-Park: Peninsula Symphonic Winds
DESCRIPTION:The Peninsula Symphonic Winds (PSW) is a nonprofit ensemble formed in 1996\, comprising semi-professional and seasoned amateur musicians. \nJoin us for an evening of film\, musicals\, and pop music featuring some of your favorite artists including John Williams\, Ennio Morricone\, Prince\, Simon & Garfunkel\, Ray Charles\, and so much more! This concert is brought to you by the Lunada Bay Home Owners Association.
URL:https://www.lbhoa.org/event/concert-in-the-park-peninsula-symphonic-winds-2/
LOCATION:Palos Verdes High School\, 600 Cloyden Road\, Palos Verdes Estates\, CA\, 90274\, United States
END:VEVENT
BEGIN:VEVENT
DTSTART;TZID=America/Los_Angeles:20250701T183000
DTEND;TZID=America/Los_Angeles:20250701T183000
DTSTAMP:20260423T142657
CREATED:20250627T230426Z
LAST-MODIFIED:20250627T230827Z
UID:7873-1751394600-1751394600@www.lbhoa.org
SUMMARY:PVE Town Hall: Expiration of Measure E and Its Impact on the Future of PVE
DESCRIPTION:The City of Palos Verdes Estates is working hard to plan for a sustainable future. As part of this effort\, we are providing residents with information about the City’s budget\, expiring funding sources like Measure E\, and approaches to ensure responsible budgeting and continuity of public services. \nOn April 15\, 2025\, the City hosted a Town Hall to share financial realities\, explore future challenges\, and gather public feedback. You’ll find the presentation slides\, FAQs\, and the full recording below. \nnbsp; \nMore Info
URL:https://www.lbhoa.org/event/pve-town-hall-expiration-of-measure-e-and-its-impact-on-the-future-of-pve/
LOCATION:Palos Verdes Golf Club\, 3301 Via Campesina\, Palos Verdes Estates\, CA\, 90274\, United States
END:VEVENT
BEGIN:VEVENT
DTSTART;TZID=America/Los_Angeles:20250518T150000
DTEND;TZID=America/Los_Angeles:20250518T170000
DTSTAMP:20260423T142657
CREATED:20250515T164154Z
LAST-MODIFIED:20250515T164154Z
UID:7660-1747580400-1747587600@www.lbhoa.org
SUMMARY:Join PVE Neighborhood Watch for a Free Ice Cream
DESCRIPTION:THIS SUNDAY\, 5/18 at the“Neighbors Meeting Neighbors” Event\nLunada Bay Park @ 3 – 5 PM\n \nThe PVE Neighborhood Watch is looking forward to seeing you THIS SUNDAY afternoon\, May 18\, 2024 for the special community event  – Neighbors Meeting Neighbors in your area. \nThe PVE Neighborhood Watch is excited to partner with the PVE Police Department and the City of PVE for our continuing tradition:  Neighbors Meeting Neighbors. \nResidents of all ages are invited to attend the event in your neighborhood! \n \n\nCome and have some free ice cream and fun with neighbors\nMeet the caravan with special guests including our City’s first responders & City Council\nGrab a photo with Car 54 and Crime Fighting Officer McGruff\nSpecial treats\, surprises and more!\n\nThe events will be at 4 locations within our City with caravan stops and special activities at each location. Attend the location for your area to connect with your neighbors. \nFind the location and time of your event on the PVE Neighborhood Watch website or listed below.
URL:https://www.lbhoa.org/event/join-pve-neighborhood-watch-for-a-free-ice-cream/
LOCATION:Lunada Bay Park\, 2201 Palos Verdes Dr W\, Palos Verdes Estates\, CA\, 90274
END:VEVENT
BEGIN:VEVENT
DTSTART;TZID=America/Los_Angeles:20250517T090000
DTEND;TZID=America/Los_Angeles:20250517T110000
DTSTAMP:20260423T142657
CREATED:20250515T164436Z
LAST-MODIFIED:20250515T164436Z
UID:7665-1747472400-1747479600@www.lbhoa.org
SUMMARY:Callie's Community Clean-Up
DESCRIPTION:
URL:https://www.lbhoa.org/event/callies-community-clean-up/
LOCATION:Lunada Bay\, Paseo del Mar & Oakley Road\, Palos Verdes Estates\, CA\, 90274\, United States
END:VEVENT
BEGIN:VEVENT
DTSTART;VALUE=DATE:20250517
DTEND;VALUE=DATE:20250518
DTSTAMP:20260423T142657
CREATED:20250515T162704Z
LAST-MODIFIED:20250515T164557Z
UID:7657-1747440000-1747526399@www.lbhoa.org
SUMMARY:Bulky Trash Pickup
DESCRIPTION:Mark your calendars! Athens Services will provide a free curbside pick-up for bulky waste and electronic waste on Saturday\, May  17\, 2025. \nAccepted items include: \n\nBulky waste: furniture\, appliances\, mattresses\, and similar large household items\nE-Waste: televisions\, computers\, monitors\, printers\, and other electronics\nAll items must be places at the curb\, not in the street\, by 6:00 AM on the morning of the event.
URL:https://www.lbhoa.org/event/bulky-trash-pickup/
END:VEVENT
BEGIN:VEVENT
DTSTART;VALUE=DATE:20241222
DTEND;VALUE=DATE:20241223
DTSTAMP:20260423T142657
CREATED:20241203T233532Z
LAST-MODIFIED:20241204T024915Z
UID:7420-1734825600-1734911999@www.lbhoa.org
SUMMARY:LBHOA's 2024 Santa-in-the-Park
DESCRIPTION:
URL:https://www.lbhoa.org/event/lbhoas-2024-santa-in-the-park/
LOCATION:Lunada Bay Park\, 2201 Palos Verdes Dr W\, Palos Verdes Estates\, CA\, 90274
END:VEVENT
BEGIN:VEVENT
DTSTART;TZID=America/Los_Angeles:20241117T140000
DTEND;TZID=America/Los_Angeles:20241117T160000
DTSTAMP:20260423T142657
CREATED:20241110T055302Z
LAST-MODIFIED:20241110T055302Z
UID:7406-1731852000-1731859200@www.lbhoa.org
SUMMARY:PVE Neighborhood Watch Annual Meeting
DESCRIPTION:
URL:https://www.lbhoa.org/event/pve-neighborhood-watch-annual-meeting/
LOCATION:Palos Verdes Estates City Hall
ATTACH;FMTTYPE=image/png:https://www.lbhoa.org/wp-content/uploads/2024-pve-nw-annual-mtg-logo.png
END:VEVENT
BEGIN:VEVENT
DTSTART;TZID=America/Los_Angeles:20241103T090000
DTEND;TZID=America/Los_Angeles:20241103T110000
DTSTAMP:20260423T142657
CREATED:20241101T141627Z
LAST-MODIFIED:20241101T141640Z
UID:7399-1730624400-1730631600@www.lbhoa.org
SUMMARY:Neighborhood Clean-up Event
DESCRIPTION:
URL:https://www.lbhoa.org/event/neighborhood-clean-up-event-2/
LOCATION:Lunada Bay\, Paseo del Mar & Oakley Road\, Palos Verdes Estates\, CA\, 90274\, United States
END:VEVENT
BEGIN:VEVENT
DTSTART;TZID=America/Los_Angeles:20241102T170000
DTEND;TZID=America/Los_Angeles:20241102T200000
DTSTAMP:20260423T142657
CREATED:20241017T062448Z
LAST-MODIFIED:20241017T062448Z
UID:7259-1730566800-1730577600@www.lbhoa.org
SUMMARY:Diwali--Lunada Bay's Festival of Lights
DESCRIPTION:
URL:https://www.lbhoa.org/event/diwali-lunada-bays-festival-of-lights/
LOCATION:Lunada Bay Park\, 2201 Palos Verdes Dr W\, Palos Verdes Estates\, CA\, 90274
END:VEVENT
BEGIN:VEVENT
DTSTART;TZID=America/Los_Angeles:20241027T140000
DTEND;TZID=America/Los_Angeles:20241027T180000
DTSTAMP:20260423T142657
CREATED:20241002T143145Z
LAST-MODIFIED:20241028T011944Z
UID:7184-1730037600-1730052000@www.lbhoa.org
SUMMARY:2024 LBHOA Harvest Festival
DESCRIPTION:Mark your calendar! LBHOA will be hosting the 2024 Harvest Festival on Sunday\, October 27 from 2-6pm.\nWe love putting these events on for the neighborhood\, but these events are possible only with the participation of the community.  To join the LBHOA\, click on the button below: \nJoin / Renew \nJoin us for:\n \n\nLive Music\nPumpkin Race (register below)\nBumper Cars\nFace Painter\nBalloon Artist\nCrafts and more!\nEnjoy Food\, Wine\, Beer and more at our local Lunada Bay food establishments–The Kitchen\, Salsa Verdes\, and Raffaellos\n\n\n\n2025 Los Angeles Dodger Ticket Raffle!\nParticipate in our raffle for Four (4) Field-Level Seats to a 2025 Los Angeles Dodgers Home Game plus (1) Preferred Parking Pass\nRaffle is open to 2024 LBHOA Members only!\nPurchase Tickets by selecting the number of tickets and clicking “Pay Now.” You will have the option of paying with a PayPal account or clicking the “Pay With Credit or Debit Card.” \n\n\nThanks to the Mehta Family for their generous sponsorship of the LBHOA.\n\n\n \nThank you to our generous sponsors who make our events possible!\n \n\n\n\n\n\n\n\n\n\nParticipate in Our Pumpkin Race! \n\nYou must register to participate!  Register filling out the form below.\nThe race schedule will be sent to you via email.  Races will start at approximately 3 pm\nNeed a wheel kit?  Purchase wheel kits at Lunada Hardware in the Patio Building\nPlease consider supporting the LBHOA.  Your support enables us to put on these events!\n\nThe registration for this year’s Pumpkin Race is now closed!
URL:https://www.lbhoa.org/event/2023-lbhoa-harvest-festival/
LOCATION:Lunada Bay Plaza\, 2201 Palos Verdes Drive West\, Palos Verdes Estates\, CA\, 90274\, United States
END:VEVENT
BEGIN:VEVENT
DTSTART;TZID=America/Los_Angeles:20240925T130000
DTEND;TZID=America/Los_Angeles:20240925T153000
DTSTAMP:20260423T142657
CREATED:20240907T235752Z
LAST-MODIFIED:20240908T000429Z
UID:7171-1727269200-1727278200@www.lbhoa.org
SUMMARY:Upside to Aging--A Time to Thrive
DESCRIPTION:The LBHOA wants you to be aware of this event being put on by the Palos Verdes Peninsula Village.  To attend\, please be sure to click on the image and register. \n  \n \n 
URL:https://www.lbhoa.org/event/7171/
LOCATION:Palos Verdes Golf Club\, 3301 Via Campesina\, Palos Verdes Estates\, CA\, 90274\, United States
END:VEVENT
BEGIN:VEVENT
DTSTART;TZID=America/Los_Angeles:20240901T160000
DTEND;TZID=America/Los_Angeles:20240901T180000
DTSTAMP:20260423T142657
CREATED:20240601T223822Z
LAST-MODIFIED:20240601T223822Z
UID:7082-1725206400-1725213600@www.lbhoa.org
SUMMARY:Canyon Brothers Summer Concert Series
DESCRIPTION:The Canyon Brothers Band performs classic country & honky-tonk.
URL:https://www.lbhoa.org/event/canyon-brothers-summer-concert-series/
LOCATION:Lunada Bay Park\, 2201 Palos Verdes Dr W\, Palos Verdes Estates\, CA\, 90274
ATTACH;FMTTYPE=image/png:https://www.lbhoa.org/wp-content/uploads/Canyon-Bros.png
END:VEVENT
BEGIN:VEVENT
DTSTART;TZID=America/Los_Angeles:20240818T160000
DTEND;TZID=America/Los_Angeles:20240818T180000
DTSTAMP:20260423T142657
CREATED:20240601T223703Z
LAST-MODIFIED:20240601T223703Z
UID:7080-1723996800-1724004000@www.lbhoa.org
SUMMARY:Wall of Sound Summer Concert Series
DESCRIPTION:Wall of Sound recreates the energy and power of Grateful Dead music featuring authentic tones and style.
URL:https://www.lbhoa.org/event/wall-of-sound-summer-concert-series/
LOCATION:Lunada Bay Park\, 2201 Palos Verdes Dr W\, Palos Verdes Estates\, CA\, 90274
ATTACH;FMTTYPE=image/jpeg:https://www.lbhoa.org/wp-content/uploads/Wall-of-Sound.jpg
END:VEVENT
BEGIN:VEVENT
DTSTART;TZID=America/Los_Angeles:20240721T160000
DTEND;TZID=America/Los_Angeles:20240721T180000
DTSTAMP:20260423T142657
CREATED:20240601T223548Z
LAST-MODIFIED:20240601T223548Z
UID:7078-1721577600-1721584800@www.lbhoa.org
SUMMARY:Upstream Summer Concert Series
DESCRIPTION:Welcome to the Upstream experience! Upstream has been spreading their message of love and positivity through their exhilarating Caribbean Music\, namely\, Reggae\, Calypso\, Soca and Steel Drum Music\, for quite some time now.
URL:https://www.lbhoa.org/event/upstream-summer-concert-series/
LOCATION:Lunada Bay Park\, 2201 Palos Verdes Dr W\, Palos Verdes Estates\, CA\, 90274
ATTACH;FMTTYPE=image/jpeg:https://www.lbhoa.org/wp-content/uploads/Upstream.jpg
END:VEVENT
BEGIN:VEVENT
DTSTART;TZID=America/Los_Angeles:20240707T160000
DTEND;TZID=America/Los_Angeles:20240707T180000
DTSTAMP:20260423T142657
CREATED:20240601T223256Z
LAST-MODIFIED:20240601T223316Z
UID:7073-1720368000-1720375200@www.lbhoa.org
SUMMARY:Peninsula Symphonic Winds Summer Concert
DESCRIPTION:The Peninsula Symphonic Band\, is unique in Southern California. The ensemble provides a wide range of musical programming\, including ever popular marches and lighter pieces during the summer\, traditional transcriptions of the works of the masters\, and pieces written specifically for concert band.
URL:https://www.lbhoa.org/event/peninsula-symphonic-winds-summer-concert/
LOCATION:Palos Verdes High School\, 600 Cloyden Road\, Palos Verdes Estates\, CA\, 90274\, United States
ATTACH;FMTTYPE=image/jpeg:https://www.lbhoa.org/wp-content/uploads/Peninsula-Symphonic-Winds.jpg
END:VEVENT
BEGIN:VEVENT
DTSTART;TZID=America/Los_Angeles:20240616T160000
DTEND;TZID=America/Los_Angeles:20240616T180000
DTSTAMP:20260423T142657
CREATED:20240601T223056Z
LAST-MODIFIED:20240601T223347Z
UID:7071-1718553600-1718560800@www.lbhoa.org
SUMMARY:Desperado Eagles Tribute Band Summer Concert
DESCRIPTION:Desperado has become one of the best and most well known Eagles tributes in the United States. They boast a line-up of five lead singers and multi-instrumentalists; which not only possess and rivals the musical talents of the actual Eagles\, but have been used to play with members of the Hall of Fame band itself.
URL:https://www.lbhoa.org/event/desperado-eagles-tribute-band-summer-concert/
LOCATION:Lunada Bay Park\, 2201 Palos Verdes Dr W\, Palos Verdes Estates\, CA\, 90274
ATTACH;FMTTYPE=image/jpeg:https://www.lbhoa.org/wp-content/uploads/Desperado-Stage-Promo-Flyer-with-Logo.jpg
END:VEVENT
BEGIN:VEVENT
DTSTART;TZID=America/Los_Angeles:20240602T160000
DTEND;TZID=America/Los_Angeles:20240602T180000
DTSTAMP:20260423T142657
CREATED:20240601T222848Z
LAST-MODIFIED:20240601T223416Z
UID:7069-1717344000-1717351200@www.lbhoa.org
SUMMARY:Tenn West Summer Concert
DESCRIPTION:Two thousand miles west of Tennessee\, a band of veteran musicians came together to create a sound that can only be described as California Country.
URL:https://www.lbhoa.org/event/tenn-west-summer-concert/
LOCATION:Lunada Bay Park\, 2201 Palos Verdes Dr W\, Palos Verdes Estates\, CA\, 90274
ATTACH;FMTTYPE=image/png:https://www.lbhoa.org/wp-content/uploads/Tenn-West.png
END:VEVENT
END:VCALENDAR