BEGIN:VCALENDAR
VERSION:2.0
PRODID:-//LBHOA - ECPv6.15.16.1//NONSGML v1.0//EN
CALSCALE:GREGORIAN
METHOD:PUBLISH
X-ORIGINAL-URL:https://www.lbhoa.org
X-WR-CALDESC:Events for LBHOA
REFRESH-INTERVAL;VALUE=DURATION:PT1H
X-Robots-Tag:noindex
X-PUBLISHED-TTL:PT1H
BEGIN:VTIMEZONE
TZID:America/Los_Angeles
BEGIN:DAYLIGHT
TZOFFSETFROM:-0800
TZOFFSETTO:-0700
TZNAME:PDT
DTSTART:20250309T100000
END:DAYLIGHT
BEGIN:STANDARD
TZOFFSETFROM:-0700
TZOFFSETTO:-0800
TZNAME:PST
DTSTART:20251102T090000
END:STANDARD
BEGIN:DAYLIGHT
TZOFFSETFROM:-0800
TZOFFSETTO:-0700
TZNAME:PDT
DTSTART:20260308T100000
END:DAYLIGHT
BEGIN:STANDARD
TZOFFSETFROM:-0700
TZOFFSETTO:-0800
TZNAME:PST
DTSTART:20261101T090000
END:STANDARD
BEGIN:DAYLIGHT
TZOFFSETFROM:-0800
TZOFFSETTO:-0700
TZNAME:PDT
DTSTART:20270314T100000
END:DAYLIGHT
BEGIN:STANDARD
TZOFFSETFROM:-0700
TZOFFSETTO:-0800
TZNAME:PST
DTSTART:20271107T090000
END:STANDARD
END:VTIMEZONE
BEGIN:VEVENT
DTSTART;TZID=America/Los_Angeles:20260416T090000
DTEND;TZID=America/Los_Angeles:20260416T100000
DTSTAMP:20260423T142136
CREATED:20260408T045229Z
LAST-MODIFIED:20260415T035254Z
UID:8198-1776330000-1776333600@www.lbhoa.org
SUMMARY:Coffee with PVE Mayor and City Manager
DESCRIPTION:Mayor Michael Kemps and City Manager Kerry Kallman will be at Lunada Kitchen at 9:00 AM on Thursday April 16 for an informal gathering to answer questions from residents and share information about what’s happening in the city that affects the Lunada Bay area and residents. The Market is donating drip coffee for the event; lattes\, pastries and breakfast will be available for purchase.
URL:https://www.lbhoa.org/event/coffee-with-pve-mayor-and-city-manager/
LOCATION:Lunada Kitchen\, 2201 Palos Verdes Drive West\, Palos Verdes Estates\, CA\, 90274\, United States
END:VEVENT
BEGIN:VEVENT
DTSTART;TZID=America/Los_Angeles:20260418T080000
DTEND;TZID=America/Los_Angeles:20260418T120000
DTSTAMP:20260423T142136
CREATED:20260415T034621Z
LAST-MODIFIED:20260415T034621Z
UID:8216-1776499200-1776513600@www.lbhoa.org
SUMMARY:Shred & E-Waste Collection Event
DESCRIPTION:PALOS VERDES HIGH SCHOOL PARKING LOT\n600 Cloyden Road\, Palos Verdes Estates\, CA 90274\n  \nACCEPTABLE E-WASTE ITEMS: \nTV’s  \nPrinters DVD players Computers Etc.  \nNOT ACCEPTABLE  \nNo hazardous waste  \n(such as paint\, oil\, light bulbs\, etc.) will be accepted.  \nFOR MORE INFORMATION\, PLEASE CONTACT CITY HALL (310) 378-0383 OR ATHENS (888) 336-6100. 
URL:https://www.lbhoa.org/event/shred-e-waste-collection-event/
END:VEVENT
BEGIN:VEVENT
DTSTART;TZID=America/Los_Angeles:20260418T080000
DTEND;TZID=America/Los_Angeles:20260418T120000
DTSTAMP:20260423T142136
CREATED:20260415T035638Z
LAST-MODIFIED:20260415T040614Z
UID:8218-1776499200-1776513600@www.lbhoa.org
SUMMARY:Free Compost
DESCRIPTION:
URL:https://www.lbhoa.org/event/free-compost-3/
END:VEVENT
BEGIN:VEVENT
DTSTART;TZID=America/Los_Angeles:20260418T090000
DTEND;TZID=America/Los_Angeles:20260418T110000
DTSTAMP:20260423T142136
CREATED:20260408T045817Z
LAST-MODIFIED:20260408T050003Z
UID:8202-1776502800-1776510000@www.lbhoa.org
SUMMARY:Callie’s Community Clean-Up
DESCRIPTION:Callie’s Community Clean-Up\, led by high schooler Addy Starr\, is hosting their sixth community clean-up on Saturday\, April 18th\, from 9:00 to 11:00 a.m. The event was inspired by her experience noticing all the trash around the neighborhood when walking her dog\, Callie. We will meet at the Lunada Bay Park (up by the Lunada Market between Vía Anacapa and Palos Verdes Drive West). We will be providing trash bags\, water\, and gloves. \nVolunteers will start picking up trash at the park and can spread throughout the neighborhood; we recommend along PVHS and the bluffs.
URL:https://www.lbhoa.org/event/callies-community-clean-up-3/
LOCATION:Lunada Bay Park\, 2201 Palos Verdes Dr W\, Palos Verdes Estates\, CA\, 90274
END:VEVENT
BEGIN:VEVENT
DTSTART;TZID=America/Los_Angeles:20260531T160000
DTEND;TZID=America/Los_Angeles:20260531T180000
DTSTAMP:20260423T142136
CREATED:20260408T143327Z
LAST-MODIFIED:20260408T221744Z
UID:8205-1780243200-1780250400@www.lbhoa.org
SUMMARY:LBHOA Summer Concert-in-the-Park
DESCRIPTION:Bring your blankets\, friends\, and community spirit and join us at Lunada Bay Park as we kick off our 2026 Summer Concert-in-the-Park series with “Saxon Weiss.” \nTwo years ago\, PV Magazine featured a PV Intermediate School sixth-grader\, Saxon Weiss\, whose musical journey is a captivating story that showcases his passion and talent for music.  His love for live performances is evident\, and he aspires to be recognized for his ability to play various styles of music rather than confining himself to a single genre. Currently proficient in classical\, jazz\, blues\, rock\, Hawaiian slack key\, bluegrass\, and country\, Saxon has not only mastered diverse genres but has also ventured into songwriting.  Saxon is set to release his highly anticipated album later this year. \nThree more concerts are planned for this season. Want more concerts like these? We’d love to add additional dates–community donations make it possible. Please consider contributing to help us expand the series!
URL:https://www.lbhoa.org/event/lbhoa-summer-concert-in-the-park/
ATTACH;FMTTYPE=image/jpeg:https://www.lbhoa.org/wp-content/uploads/Saxonweiss.jpeg
END:VEVENT
END:VCALENDAR