BEGIN:VCALENDAR
VERSION:2.0
PRODID:-//LBHOA - ECPv6.15.16.1//NONSGML v1.0//EN
CALSCALE:GREGORIAN
METHOD:PUBLISH
X-WR-CALNAME:LBHOA
X-ORIGINAL-URL:https://www.lbhoa.org
X-WR-CALDESC:Events for LBHOA
REFRESH-INTERVAL;VALUE=DURATION:PT1H
X-Robots-Tag:noindex
X-PUBLISHED-TTL:PT1H
BEGIN:VTIMEZONE
TZID:America/Los_Angeles
BEGIN:DAYLIGHT
TZOFFSETFROM:-0800
TZOFFSETTO:-0700
TZNAME:PDT
DTSTART:20150308T100000
END:DAYLIGHT
BEGIN:STANDARD
TZOFFSETFROM:-0700
TZOFFSETTO:-0800
TZNAME:PST
DTSTART:20151101T090000
END:STANDARD
BEGIN:DAYLIGHT
TZOFFSETFROM:-0800
TZOFFSETTO:-0700
TZNAME:PDT
DTSTART:20160313T100000
END:DAYLIGHT
BEGIN:STANDARD
TZOFFSETFROM:-0700
TZOFFSETTO:-0800
TZNAME:PST
DTSTART:20161106T090000
END:STANDARD
BEGIN:DAYLIGHT
TZOFFSETFROM:-0800
TZOFFSETTO:-0700
TZNAME:PDT
DTSTART:20170312T100000
END:DAYLIGHT
BEGIN:STANDARD
TZOFFSETFROM:-0700
TZOFFSETTO:-0800
TZNAME:PST
DTSTART:20171105T090000
END:STANDARD
BEGIN:DAYLIGHT
TZOFFSETFROM:-0800
TZOFFSETTO:-0700
TZNAME:PDT
DTSTART:20180311T100000
END:DAYLIGHT
BEGIN:STANDARD
TZOFFSETFROM:-0700
TZOFFSETTO:-0800
TZNAME:PST
DTSTART:20181104T090000
END:STANDARD
END:VTIMEZONE
BEGIN:VEVENT
DTSTART;TZID=America/Los_Angeles:20170723T170000
DTEND;TZID=America/Los_Angeles:20170723T190000
DTSTAMP:20260425T060136
CREATED:20170712T171246Z
LAST-MODIFIED:20170712T180237Z
UID:2941-1500829200-1500836400@www.lbhoa.org
SUMMARY:Concert-in-the-Park:  Manuel the Band
DESCRIPTION:Concert-in-the-Park #3\nJoin us at Lunada Bay Park for an evening of jazz\, pop\, and rock. This concert is sponsored by CHASE Bank\, Lunada Bay Branch. CHASE is sponsoring a free BBQ\, so come at 4 pm and enjoy the festivities before the music! \n \n  \nMixing jazzy chords and pop melodies with rock structured tunes\, Manuel the Band has created a new niche for music lovers to enjoy. Based out of Long Beach\, California\, the group has amassed a loyal following who describe their music as relatable stories with the right\, pleasant melodies. Originally a three piece\, Manuel the Band has expanded to incorporate other musicians whose musical abilities resonate with listeners from all backgrounds. From trombone to pedal steel\, to guitar and piano\, Manuel the Band has a sound that people can feel and lyrics that everyone can relate to.\nPlease help us thank and support the corporate sponsors who help us host these concerts.  This week\, the concert is hosted by Chase Bank.
URL:https://www.lbhoa.org/event/concert-in-the-park-3/
LOCATION:Lunada Bay Park\, 2201 Palos Verdes Dr W\, Palos Verdes Estates\, CA\, 90274
END:VEVENT
BEGIN:VEVENT
DTSTART;TZID=America/Los_Angeles:20170715T133000
DTEND;TZID=America/Los_Angeles:20170715T143000
DTSTAMP:20260425T060136
CREATED:20170712T021438Z
LAST-MODIFIED:20170712T021438Z
UID:2937-1500125400-1500129000@www.lbhoa.org
SUMMARY:Community Coffee with Assemblymember Al Muratsuchi
DESCRIPTION:
URL:https://www.lbhoa.org/event/community-coffee-with-assemblymember-al-muratsuchi/
LOCATION:Malaga Cove Ranch Market\, 43 Malaga Cove Plaza\, Palos Verdes Estates\, CA\, 90274\, United States
END:VEVENT
BEGIN:VEVENT
DTSTART;TZID=America/Los_Angeles:20170709T170000
DTEND;TZID=America/Los_Angeles:20170709T190000
DTSTAMP:20260425T060136
CREATED:20170706T180641Z
LAST-MODIFIED:20170706T180727Z
UID:2908-1499619600-1499626800@www.lbhoa.org
SUMMARY:LBHOA Concert-in-the-Park #2
DESCRIPTION:The Peninsula Symphonic Winds will host an evening of music at the courtyard at Palos Verdes High School.  This weekend’s theme is “Picnic & Pops” so pack a snack and enjoy an evening with friends\, family and community.
URL:https://www.lbhoa.org/event/lbhoa-concert-in-the-park-2/
LOCATION:Palos Verdes High School\, 600 Cloyden Road\, Palos Verdes Estates\, CA\, 90274\, United States
END:VEVENT
BEGIN:VEVENT
DTSTART;TZID=America/Los_Angeles:20170617T090000
DTEND;TZID=America/Los_Angeles:20170617T150000
DTSTAMP:20260425T060136
CREATED:20170615T154631Z
LAST-MODIFIED:20170615T154631Z
UID:2899-1497690000-1497711600@www.lbhoa.org
SUMMARY:Household Hazardous Waste (HHW) Collection Event in Torrance
DESCRIPTION: \n\n\n\n\n\n\n\n\n\n\n\n\n\n\n\nCity of Torrance\nAmerican Honda\n\n1919 Torrance Blvd.\nTorrance\, CA 90501 \n(enter event from Harper’s Way off of Van Ness Ave.)\n\n \n\nSaturday\, June 17\, 2017\n9:00 a.m. – 3:00 p.m.\n\nSponsored jointly by the Sanitation Districts and the Department of Public Works. The Household Hazardous Waste (HHW) Collection Program gives Los Angeles County residents a legal and cost free way to dispose of unwanted household chemicals that cannot be disposed of in the regular trash.\n\n\nTHINGS WE WANT YOU TO BRING…\n\nMotor oil\, antifreeze\, paint\, paint thinner\nTurpentine\, cleaners with acids or lye\nPesticides and herbicides\nHousehold and car batteries\nOld computers and television sets\nSharps or used needles\nExpired pharmaceuticals and mercury thermometers\n\nTHINGS WE DON’T WANT YOU TO BRING…\n\nExplosives\, ammunition or radioactive materials\nWaste from businesses will NOT be accepted\nTrash or old tires\nWhite goods such as washers\, stoves\, refrigerators or air conditioners\n\nHOW TO PREPARE…\n\nIn general\, there is a limit of 15 gallons or 125 lbs. per vehicle.\nBring items in a sturdy box\, preferably in their original labeled containers.\nBe prepared to leave your containers.\nDo not mix products together.\n\nFOR MORE INFORMATION\, CALL:\n\nSANITATION DISTRICTS OF LOS ANGELES COUNTY – (800) 238-0172\nOR CLICK THE MAP BELOW\n\n\n\n\n\n\n\n\n\n\nCONNECT WITH SBESC:\n\n  \n\n\n\n\n\n\n\n\n\n\n\n\n\n\n\n\n\n\n\n\n\n\n\n\n\n\n\n\n\n\n\n\n\n\n\n\n\n\n\n\n\nSBESC\, (310) 371-7222\, 20285 S. Western Avenue\, Suite 100\, Torrance\, CA 90501
URL:https://www.lbhoa.org/event/household-hazardous-waste-hhw-collection-event-in-torrance/
LOCATION:CA
END:VEVENT
BEGIN:VEVENT
DTSTART;TZID=America/Los_Angeles:20170615T190000
DTEND;TZID=America/Los_Angeles:20170615T210000
DTSTAMP:20260425T060136
CREATED:20170615T150626Z
LAST-MODIFIED:20170615T150709Z
UID:2897-1497553200-1497560400@www.lbhoa.org
SUMMARY:LBHOA Board of Directors Monthly Meeting
DESCRIPTION:The monthly meeting of the LBHOA Board of Directors is typically held on the 3rd Thursday of the month.  The meeting is held at a private residence\, and rotates to different locations monthly.\nAny member is welcom to attend.  If you would like to attend\, please contact us for information on location.
URL:https://www.lbhoa.org/event/lbhoa-board-of-directors-monthly-meeting/
LOCATION:CA
END:VEVENT
BEGIN:VEVENT
DTSTART;TZID=America/Los_Angeles:20170611T100000
DTEND;TZID=America/Los_Angeles:20170611T210000
DTSTAMP:20260425T060136
CREATED:20170606T233528Z
LAST-MODIFIED:20170606T233528Z
UID:2870-1497175200-1497214800@www.lbhoa.org
SUMMARY:30th Annual PV Street Fair and Music Festival
DESCRIPTION:Looking for some great family fun? Join your friends at the 30th Annual Palos Verdes Street Fair and Music Festival June 10 and 11! There’s something for everyone at this popular two-day event.\nOur favorite part of the weekend is bringing the community and many visitors from throughout the Los Angeles metro area together to celebrate the official start of the summer season! We cannot wait to see you there! \nLooking for fame and fortune? Well\, maybe just fame … share your Street Fair memories: #pvstreetfair & #pv30
URL:https://www.lbhoa.org/event/30th-annual-pv-street-fair-and-music-festival-2/
LOCATION:Peninsula Center\, 501 Deep Valley Dr\, Rolling Hills Estates\, CA\, 90274\, United States
END:VEVENT
BEGIN:VEVENT
DTSTART;TZID=America/Los_Angeles:20170610T100000
DTEND;TZID=America/Los_Angeles:20170610T220000
DTSTAMP:20260425T060136
CREATED:20170606T233407Z
LAST-MODIFIED:20170606T233407Z
UID:2867-1497088800-1497132000@www.lbhoa.org
SUMMARY:30th Annual PV Street Fair and Music Festival
DESCRIPTION:Looking for some great family fun? Join your friends at the 30th Annual Palos Verdes Street Fair and Music Festival June 10 and 11! There’s something for everyone at this popular two-day event.\nOur favorite part of the weekend is bringing the community and many visitors from throughout the Los Angeles metro area together to celebrate the official start of the summer season! We cannot wait to see you there! \nLooking for fame and fortune? Well\, maybe just fame … share your Street Fair memories: #pvstreetfair & #pv30
URL:https://www.lbhoa.org/event/30th-annual-pv-street-fair-and-music-festival/
LOCATION:Peninsula Center\, 501 Deep Valley Dr\, Rolling Hills Estates\, CA\, 90274\, United States
END:VEVENT
BEGIN:VEVENT
DTSTART;TZID=America/Los_Angeles:20170604T170000
DTEND;TZID=America/Los_Angeles:20170604T190000
DTSTAMP:20260425T060136
CREATED:20170528T232325Z
LAST-MODIFIED:20170531T001542Z
UID:2834-1496595600-1496602800@www.lbhoa.org
SUMMARY:LBHOA Concert in the Park
DESCRIPTION:The LBHOA Summer Concert Ser4ies kicks off next Sunday\, June 4\, with Hollywood U2. \nBased in Los Angeles\, Hollywood U2 is the World’s Greatest U2 Tribute Band. The lead singer Joe Hier (aka Hollywood Bono) is the only Bono impersonator to have sung with Bono & U2. This took place at The Forum in Los Angeles on May 26th\, 2015 and made International news and headlines and has been covered by Rolling Stone\, LA Times\, The Daily News\, NY Times\, Chicago Tribune\, etc. \nSo come celebrate with your neighbors this Sunday at 5 pm in the Lunada Bay Park. \n\n\n\nIn addition\, before the concert\, LBHOA and the City of Palos Verdes Estates will be dedicating a plaque in honor of Joseph C. Sherwood\, Jr. and the City Council members between 2004 and 2009 who served during the construction of the Lunada Bay Fountain and Park.  The ceremony starts at 4:30 pm.  Come and help us celebrate the park!\n\n\n\n  \nBe sure to thank our concert sponsors.  This week\, the sponsor is Porsche of South Bay.\nFor more info on our sponsors\, please click here.
URL:https://www.lbhoa.org/event/lbhoa-concert-in-the-park/
LOCATION:Lunada Bay Park\, 2201 Palos Verdes Dr W\, Palos Verdes Estates\, CA\, 90274
END:VEVENT
BEGIN:VEVENT
DTSTART;TZID=America/Los_Angeles:20170429T120000
DTEND;TZID=America/Los_Angeles:20170429T150000
DTSTAMP:20260425T060136
CREATED:20170421T220433Z
LAST-MODIFIED:20170421T220740Z
UID:2742-1493467200-1493478000@www.lbhoa.org
SUMMARY:Spring Lunada Bay
DESCRIPTION:
URL:https://www.lbhoa.org/event/2742/
LOCATION:Lunada Bay Park\, 2201 Palos Verdes Dr W\, Palos Verdes Estates\, CA\, 90274
END:VEVENT
BEGIN:VEVENT
DTSTART;TZID=America/Los_Angeles:20170429T120000
DTEND;TZID=America/Los_Angeles:20170429T150000
DTSTAMP:20260425T060136
CREATED:20170415T023410Z
LAST-MODIFIED:20170415T023410Z
UID:2731-1493467200-1493478000@www.lbhoa.org
SUMMARY:LBHOA Spring Fling--Save the Date!
DESCRIPTION:Save the date for an LBHOA neighborhood event to celebrate Spring and all things Green.  The plan is to bring in family oriented entertainment and food\, and at the same time\, explore the need for us to protect our environment.   \nMore details will be provides as the plans firm up\, but please mark your calendars!
URL:https://www.lbhoa.org/event/lbhoa-spring-fling-save-the-date/
LOCATION:Lunada Bay Park\, 2201 Palos Verdes Dr W\, Palos Verdes Estates\, CA\, 90274
END:VEVENT
BEGIN:VEVENT
DTSTART;TZID=America/Los_Angeles:20170422T100000
DTEND;TZID=America/Los_Angeles:20170422T120000
DTSTAMP:20260425T060136
CREATED:20170415T004223Z
LAST-MODIFIED:20170421T220022Z
UID:2722-1492855200-1492862400@www.lbhoa.org
SUMMARY:Beautify Lunada Bay (BLB) Expo
DESCRIPTION:On Saturday April 22\, Earth Day\, the Lunada Bay Homeowners Association (LBHOA) will host an event highlighting the organization’s plan to upgrade the community’s bluff–top areas overlooking the Pacific Ocean with walking paths and native vegetation. The event will be from 10:00 AM to noon on Paseo Lunado across from Lunada Bay Elementary School\, the site where its Beautify Lunada Bay project will begin. \n“This project has been in the works for several years\,” said Peter Bena\, president of the LBHOA. “A group of resident volunteers are leading the effort\, which has received strong support from the City of Palos Verdes Estates. The plan is to beautify bluff top open space in the Lunada Bay community. The beautification project will create stone-lined walking paths\, install native\, drought-tolerant plants\, and add a few boulders for seating.” \n“Bluff tops in Lunada Bay are currently barren\, dirt\, and weed covered and not attractive\,” said Bill Ailor\, LBHOA Board member and leader of the Beautify Lunada Bay project. “With the help of the City\, volunteers\, donations from the community\, and possibly some grant funding\, we’ll gradually enhance the beauty of these special areas.” \nThe resident-led effort will begin with a 1-acre pilot effort across from Lunada Bay Elementary School. “This site has high visibility\, and the pilot project will show the community what we have planned\,” said Ailor. “The site also offers educational opportunities for children at the school as the plants grow and butterflies and birds\nreturn.” \nThe Palos Verdes Peninsula Land Conservancy will provide technical advice and assistance to the project. The Conservancy\, which has restored many acres of open space on the peninsula\, has had an active role in selecting plants for the project that will be attractive year-round and will not block views when mature. The Conservancy will grow the plants and help with the planting. \n“We’ve been careful to minimize costs while focusing on long term benefits\,” said\nBena. “The City will provide stones and boulders from its existing stock\, will supply\nsurplus wood chips and mulch to cover the planting areas\, and will provide water until the plants mature. Plus\, we’ll make maximum use of volunteers as we move forward. Within several years\, the project will require almost no maintenance and will be a reminder of how native plants can be both beautiful and a nice addition to our gardens and bluff-top areas.” \nMore information on the project and how people can be involved and donate is available at LBHOA’s Beautify Lunada Bay web page\, http://www.lbhoa.org/BeautifyLunadaBay. \nFor more information\, contact:\nBill Ailor— (310) 336-1135 (work) or (310) 200-5482 (cell)\nPeter Bena— (310) 753-1253 (cell)
URL:https://www.lbhoa.org/event/beautify-lunada-bay-blb-expo/
LOCATION:BLB Pilot Project Site
END:VEVENT
BEGIN:VEVENT
DTSTART;TZID=America/Los_Angeles:20170223T170000
DTEND;TZID=America/Los_Angeles:20170223T190000
DTSTAMP:20260425T060136
CREATED:20170221T192802Z
LAST-MODIFIED:20170221T192802Z
UID:2684-1487869200-1487876400@www.lbhoa.org
SUMMARY:First Responder Recognition Ceremony And Open House
DESCRIPTION:Los Angeles County Fire Department cordially invites you to the \nFirst Responder Recognition Ceremony And Open House\nPlease join us in celebrating the service in our community from the L.A. County Fire Department and first responder partners. \nThursday\, February 23\, 2017 – 5 PM to 7 PM\nL.A. County Fire Station 2\n340 Palos Verdes Drive West\, Palos Verdes Estates\, 90274 \nL.A. County Fire Dept. invites you to a FREE event that you can attend right in your community. Come by to take a fire station tour and see Fire Dept. vehicle displays. \nThe Awards Ceremony is free of charge. \nWalk-ups are welcome. Please mark your calendar to attend the event. We look forward to seeing you there! \nFor questions or to RSVP: LAURA.WALTERS@FIRE.LACOUNTY.GOV \nMarcelle Herrera \nCommunity Relations Officer/Emergency Services Coordinator\nPalos Verdes Estates Police Department\n340 Palos Verdes Drive West\nPalos Verdes Estates\, CA 90274\nPH: 310-378-4211 ext 2121\nFX: 310-375-5076 \nHours: Monday–Thursday 7:30 AM – 5:30 PM \nwww.pvestates.org
URL:https://www.lbhoa.org/event/first-responder-recognition-ceremony-and-open-house/
LOCATION:LA County Fire Station 2\, 340 Palos Verdes Drive West\, Palos Verdes Estates\, CA\, 90274\, United States
END:VEVENT
BEGIN:VEVENT
DTSTART;TZID=America/Los_Angeles:20170202T190000
DTEND;TZID=America/Los_Angeles:20170202T210000
DTSTAMP:20260425T060136
CREATED:20170120T222915Z
LAST-MODIFIED:20170120T224642Z
UID:2527-1486062000-1486069200@www.lbhoa.org
SUMMARY:March 7 Election Candidate Forum
DESCRIPTION:The League of Women Voters of the Palos Verdes Peninsula is holding a public forum for candidates running for the PVE City Council and PVE City Treasurer\, and on the current ballot measure.\nThe forum will be held: \n\nThursday\, February 2\, 2017\n7:00 p.m. to 9:00 p.m.\nCouncil Chambers\nPalos Verdes Estates City Hall\n340 Palos Verdes Drive West\, PVE\, CA 90274 \nSchedule: \n\n\n\n\n\nWelcome and rules – moderator\nCandidates for Treasurer\nCandidates for City Council\nBallot measure\n7:00 p.m.\n7:05 p.m.\n7 :47 p.m. (approximately)\n8:30 p.m. (approximately)\n\n\n\nFormat for both candidate panels: \n\nEach candidate will have 2 minutes for an opening statement.\n\n\nEach candidate will have 1.5 minutes to respond to each question.\n\n\nEach candidate will have 2 minutes for a closing statement.\n\nFormat for the ballot measure panel: \n\nEach speaker will have 4 minutes for an opening statement.\n\n\nEach speaker will have 1.5 minutes to respond to each question.\n\n\nEach speaker will have 1 minute for a closing statement.\n\nMembers of the audience will submit questions on cards that will be read aloud by the moderator. Verbal questions will not be accepted.
URL:https://www.lbhoa.org/event/2527/
LOCATION:PVE Council Chambers\,  340 Palos Verdes Dr W\, Palos Verdes Estates\, CA\, 90274\, United States
END:VEVENT
BEGIN:VEVENT
DTSTART;TZID=America/Los_Angeles:20170110T200000
DTEND;TZID=America/Los_Angeles:20170110T220000
DTSTAMP:20260425T060136
CREATED:20170106T000429Z
LAST-MODIFIED:20170106T000429Z
UID:2494-1484078400-1484085600@www.lbhoa.org
SUMMARY:91st PV Homes Association Annual Meeting
DESCRIPTION:The 91st Annual Meeting will be held January 10th 2017 8:00PM in the Council Chambers of the Palos Verdes Estates City Hall 340 Palos Verdes Drive West\, Palos Verdes Estates
URL:https://www.lbhoa.org/event/91st-pv-homes-association-annual-meeting/
LOCATION:PVE Council Chambers\,  340 Palos Verdes Dr W\, Palos Verdes Estates\, CA\, 90274\, United States
END:VEVENT
BEGIN:VEVENT
DTSTART;TZID=America/Los_Angeles:20161231T170000
DTEND;TZID=America/Los_Angeles:20161231T170000
DTSTAMP:20260425T060136
CREATED:20161205T134438Z
LAST-MODIFIED:20161205T140133Z
UID:2341-1483203600-1483203600@www.lbhoa.org
SUMMARY:Mail Your Ballots for the PVHA Board of Director Ballots Election
DESCRIPTION:All Ballots must be returned in the preaddressed return mail envelope by January 4th 2017\nThe Palos Verdes Homes Association Election \nThe 91st Annual Meeting will be held January 10th 2017 in the Council Chambers of PVE City Hall \nThe PVHA was established in 1923 to interpret and manage the Protective Restrictions that run with the land in PVE and Miraleste area of Rancho Palos Verdes and to maintain an independent Art Jury. Building\, exterior changes\, structures\, landscape and improvements affecting property within the jurisdiction of PVHA are required to be reviewed and approved by the Art Jury.  PVHA is not a government entity. It is a private\, non-profit corporation governed by a 5-person all volunteer Board of Directors. If you own real estate in PVE or Miraleste you are a member of Palos Verdes Homes Association.  Every building site has one vote in the annual election of the PVHA Board of Directors. \nReturning your member verification and ballot is important. Unless a quorum is met\, no business including that of the election of Directors\, may be conducted at the Annual Meeting.  This year\, if a quorum is met votes will be counted. You may cast your vote for 5 of 8 candidates. Three candidates have been nominated by petition\, and 5 are incumbent board members.  Directors are elected to serve staggered terms until their successors are elected. If there is not sufficient return to constitute a quorum\, the incumbent board shall hold office until the next election. Below you will find qualification information from each of the candidates. \nRead about candidate bios at the PVHA website at http://pvha.org/candidates/
URL:https://www.lbhoa.org/event/mail-your-ballots-for-the-pvha-board-of-director-ballots-election/
LOCATION:CA
END:VEVENT
BEGIN:VEVENT
DTSTART;TZID=America/Los_Angeles:20161212T190000
DTEND;TZID=America/Los_Angeles:20161212T210000
DTSTAMP:20260425T060136
CREATED:20161204T183318Z
LAST-MODIFIED:20161204T215238Z
UID:2319-1481569200-1481576400@www.lbhoa.org
SUMMARY:Palos Verdes Homes Association Board of Directors Candidates Forum
DESCRIPTION:At the request of LBHOA\, the League of Women Voters (LWV) of Palos Verdes will host a Candidates Forum for the upcoming PVHA Board of Directors election. \nThe LWV has a distinguished history of non-partisan\, unbiased advocacy for citizen engagement in the democratic process. LWV will invite all 8 candidate in the race to the forum. Questions for the candidates will be collected ahead of time\, and provisions will be made for audience questions at the forum. The forum will be managed and moderated by an experienced set of LMV volunteers. \nThe forum will be held in the City Council Chambers\, starting at 7pm on December 12\, and continue until the candidate drop from exhaustion or until 9pm. \nWe are requesting anyone interested in attending to register using the form below.  Note that we will not be using the email for any purpose other than to inform residents of any changes in the forum schedule.  If you would like to subscribe to the Lunada Bay Homeowners Association email list\, please scroll to the bottom of the page and subscribe. \n\n	Notice: JavaScript is required for this content.
URL:https://www.lbhoa.org/event/palos-verdes-homes-association-board-of-directors-candidates-forum/
LOCATION:PVE Council Chambers\,  340 Palos Verdes Dr W\, Palos Verdes Estates\, CA\, 90274\, United States
END:VEVENT
BEGIN:VEVENT
DTSTART;TZID=America/Los_Angeles:20161207T160000
DTEND;TZID=America/Los_Angeles:20161207T190000
DTSTAMP:20260425T060136
CREATED:20161128T190626Z
LAST-MODIFIED:20161203T055711Z
UID:2130-1481126400-1481137200@www.lbhoa.org
SUMMARY:Santa in the Park
DESCRIPTION:Save the Date!  The Lunada Bay Homeowners Association is planning our annual Santa in the Park event on December 7. We will have many of the same attractions that made last year’s event such a success\, including:\n \n★ Fresh snow for the kids to play in and build snowmen \n  \n★ Train Ride \n  \n★ A Petting Zoo \n  \n★ Santa Letter Writing Station \n  \n★ Cookie Decorating Bar \n  \n★ Food \n  \n★ Beverages \n  \n★ Visit with Mrs. Claus and Santa! \nCome down to the Lunada Bay Park and join your neighbors in the festivities!
URL:https://www.lbhoa.org/event/santa-in-the-park/
LOCATION:Lunada Bay Park\, 2201 Palos Verdes Dr W\, Palos Verdes Estates\, CA\, 90274
END:VEVENT
END:VCALENDAR