BEGIN:VCALENDAR
VERSION:2.0
PRODID:-//LBHOA - ECPv6.15.16.1//NONSGML v1.0//EN
CALSCALE:GREGORIAN
METHOD:PUBLISH
X-WR-CALNAME:LBHOA
X-ORIGINAL-URL:https://www.lbhoa.org
X-WR-CALDESC:Events for LBHOA
REFRESH-INTERVAL;VALUE=DURATION:PT1H
X-Robots-Tag:noindex
X-PUBLISHED-TTL:PT1H
BEGIN:VTIMEZONE
TZID:America/Los_Angeles
BEGIN:DAYLIGHT
TZOFFSETFROM:-0800
TZOFFSETTO:-0700
TZNAME:PDT
DTSTART:20170312T100000
END:DAYLIGHT
BEGIN:STANDARD
TZOFFSETFROM:-0700
TZOFFSETTO:-0800
TZNAME:PST
DTSTART:20171105T090000
END:STANDARD
BEGIN:DAYLIGHT
TZOFFSETFROM:-0800
TZOFFSETTO:-0700
TZNAME:PDT
DTSTART:20180311T100000
END:DAYLIGHT
BEGIN:STANDARD
TZOFFSETFROM:-0700
TZOFFSETTO:-0800
TZNAME:PST
DTSTART:20181104T090000
END:STANDARD
BEGIN:DAYLIGHT
TZOFFSETFROM:-0800
TZOFFSETTO:-0700
TZNAME:PDT
DTSTART:20190310T100000
END:DAYLIGHT
BEGIN:STANDARD
TZOFFSETFROM:-0700
TZOFFSETTO:-0800
TZNAME:PST
DTSTART:20191103T090000
END:STANDARD
BEGIN:DAYLIGHT
TZOFFSETFROM:-0800
TZOFFSETTO:-0700
TZNAME:PDT
DTSTART:20200308T100000
END:DAYLIGHT
BEGIN:STANDARD
TZOFFSETFROM:-0700
TZOFFSETTO:-0800
TZNAME:PST
DTSTART:20201101T090000
END:STANDARD
BEGIN:DAYLIGHT
TZOFFSETFROM:-0800
TZOFFSETTO:-0700
TZNAME:PDT
DTSTART:20210314T100000
END:DAYLIGHT
BEGIN:STANDARD
TZOFFSETFROM:-0700
TZOFFSETTO:-0800
TZNAME:PST
DTSTART:20211107T090000
END:STANDARD
BEGIN:DAYLIGHT
TZOFFSETFROM:-0800
TZOFFSETTO:-0700
TZNAME:PDT
DTSTART:20220313T100000
END:DAYLIGHT
BEGIN:STANDARD
TZOFFSETFROM:-0700
TZOFFSETTO:-0800
TZNAME:PST
DTSTART:20221106T090000
END:STANDARD
BEGIN:DAYLIGHT
TZOFFSETFROM:-0800
TZOFFSETTO:-0700
TZNAME:PDT
DTSTART:20230312T100000
END:DAYLIGHT
BEGIN:STANDARD
TZOFFSETFROM:-0700
TZOFFSETTO:-0800
TZNAME:PST
DTSTART:20231105T090000
END:STANDARD
END:VTIMEZONE
BEGIN:VEVENT
DTSTART;TZID=America/Los_Angeles:20220814T130000
DTEND;TZID=America/Los_Angeles:20220814T160000
DTSTAMP:20260423T160709
CREATED:20220730T215813Z
LAST-MODIFIED:20220730T215813Z
UID:5328-1660482000-1660492800@www.lbhoa.org
SUMMARY:Royal Jubilee Tea Party
DESCRIPTION:
URL:https://www.lbhoa.org/event/royal-jubilee-tea-party/
LOCATION:Palos Verdes Art Center\, 5504 Crestridge Road\, Rancho Palos Verdes\, CA\, 90275\, United States
END:VEVENT
BEGIN:VEVENT
DTSTART;TZID=America/Los_Angeles:20220731T160000
DTEND;TZID=America/Los_Angeles:20220731T180000
DTSTAMP:20260423T160709
CREATED:20220528T153611Z
LAST-MODIFIED:20220528T153611Z
UID:5259-1659283200-1659290400@www.lbhoa.org
SUMMARY:Concert-in-the-Park--Wall of Sound
DESCRIPTION:Join us as LBHOA hosts a Concert-in-the-Park with Wall of Sound. \nPack a picnic\, and bring your family\, friends and neighbors to the Lunada Bay Park for an afternoon of music and dancing. \nNote that our concerts are starting at 4 pm this season.
URL:https://www.lbhoa.org/event/concert-in-the-park-wall-of-sound/
LOCATION:Lunada Bay Park\, 2201 Palos Verdes Dr W\, Palos Verdes Estates\, CA\, 90274
END:VEVENT
BEGIN:VEVENT
DTSTART;TZID=America/Los_Angeles:20220717T170000
DTEND;TZID=America/Los_Angeles:20220717T190000
DTSTAMP:20260423T160709
CREATED:20220627T000851Z
LAST-MODIFIED:20220709T014729Z
UID:5308-1658077200-1658084400@www.lbhoa.org
SUMMARY:Concert-at-the-School–-Peninsula Symphonic Winds
DESCRIPTION:Join us as LBHOA hosts a Concert-at-the-School with the Peninsula Symphonic Winds at PV High School.  The Peninsula Symphonic Band\, is unique in Southern California. The ensemble provides a wide range of musical programming\, including ever popular marches and lighter pieces during the summer\, traditional transcriptions of the works of the masters\, and pieces written specifically for concert band. \nPack a picnic\, and bring your family\, friends and neighbors for an afternoon of music. \nPlease note that this concert takes place at Palos Verdes High School and starts at 5 pm.
URL:https://www.lbhoa.org/event/concert-in-the-park-peninsula-symphonic-winds/
LOCATION:Palos Verdes High School\, 600 Cloyden Road\, Palos Verdes Estates\, CA\, 90274\, United States
END:VEVENT
BEGIN:VEVENT
DTSTART;TZID=America/Los_Angeles:20220703T160000
DTEND;TZID=America/Los_Angeles:20220703T180000
DTSTAMP:20260423T160709
CREATED:20220528T151240Z
LAST-MODIFIED:20220702T020053Z
UID:5254-1656864000-1656871200@www.lbhoa.org
SUMMARY:Concert-in-the-Park--Hawaiian Music & Hula Performance
DESCRIPTION:Join us as LBHOA hosts a Concert-in-the-Park with Hawaiian Music & Hula Performance. \nPack a picnic\, and bring your family\, friends and neighbors to the Lunada Bay Park for an afternoon of music and dancing. \nNote that our concerts are starting at 4 pm this season.
URL:https://www.lbhoa.org/event/concert-in-the-park-hawaiian-music-3-performers-5/
LOCATION:Lunada Bay Park\, 2201 Palos Verdes Dr W\, Palos Verdes Estates\, CA\, 90274
END:VEVENT
BEGIN:VEVENT
DTSTART;TZID=America/Los_Angeles:20220630T120000
DTEND;TZID=America/Los_Angeles:20220630T130000
DTSTAMP:20260423T160709
CREATED:20220405T215352Z
LAST-MODIFIED:20220405T215352Z
UID:4923-1656590400-1656594000@www.lbhoa.org
SUMMARY:Finance Learning Webinar #4
DESCRIPTION:Investing in an Inflationary and Higher Interest Rate Environment \n06/30/22 12pm-1pm PST \nAfter two decades of relatively low inflation and interest rates\, investors need to be prepared for a potentially very different environment ahead. This discussion will focus on how to position your portfolio for the possibility of higher inflation and higher rates in the decade ahead. \nWebinar Link: https://us02web.zoom.us/j/6891635652
URL:https://www.lbhoa.org/event/finance-learning-webinar-4/
LOCATION:CA
END:VEVENT
BEGIN:VEVENT
DTSTART;TZID=America/Los_Angeles:20220610T160000
DTEND;TZID=America/Los_Angeles:20220612T220000
DTSTAMP:20260423T160709
CREATED:20220509T164712Z
LAST-MODIFIED:20220509T165908Z
UID:5110-1654876800-1655071200@www.lbhoa.org
SUMMARY:Palos Verdes Chamber of Commerce Street Fair & Music Festival
DESCRIPTION:The Palos Verdes Peninsula Chamber of Commerce is hosting their annual Street Fair and Music Festival! \nThe event takes place from Friday\, June 10\, through Sunday\, June 12: \nFriday\, June 10\, 4pm to 10pm (Carnival only)\nSaturday\, June 11\, 11am to 10pm\nSunday\, June 12\, 11am to 10pm \nMark your calendar and join the fun. For more information\, click here.
URL:https://www.lbhoa.org/event/palos-verdes-chamber-of-commerce-street-fair-music-festival/
LOCATION:Norris & Deep Valley Drive\, Norris Center Drive & Deep Valley Drive\, Rolling Hills Estates\, CA\, 90274\, United States
END:VEVENT
BEGIN:VEVENT
DTSTART;TZID=America/Los_Angeles:20220605T160000
DTEND;TZID=America/Los_Angeles:20220605T180000
DTSTAMP:20260423T160709
CREATED:20220528T150749Z
LAST-MODIFIED:20220528T152811Z
UID:5251-1654444800-1654452000@www.lbhoa.org
SUMMARY:Concert-in-the-Park--Wood & Steel Country
DESCRIPTION:Join us as the LBHOA kicks off our 2022 Summer Concert Series with Wood & Steel Country. \nPack a picnic\, and bring your family\, friends and neighbors to the Lunada Bay Park for an afternoon of music and dancing. \nNote that our concerts are starting at 4 pm this season.
URL:https://www.lbhoa.org/event/concert-in-the-park-wood-steel-country/
LOCATION:Lunada Bay Park\, 2201 Palos Verdes Dr W\, Palos Verdes Estates\, CA\, 90274
END:VEVENT
BEGIN:VEVENT
DTSTART;TZID=America/Los_Angeles:20220522T150000
DTEND;TZID=America/Los_Angeles:20220522T170000
DTSTAMP:20260423T160709
CREATED:20220514T225945Z
LAST-MODIFIED:20220516T165107Z
UID:5167-1653231600-1653238800@www.lbhoa.org
SUMMARY:PVE Neighborhood Watch "Neighbors Meeting Neighbors" Event
DESCRIPTION:Join the Palos Verdes Estates Neighborhood Watch on Sunday afternoon\, May 22\, 2022 for a special community event at 6 locations and various times across Palos Verdes Estates. \nThe PVE Neighborhood Watch is excited to partner with the PVE Police Department and the City of PVE for our NEW TRADITION: Neighbors Meeting Neighbors. \nTwo of these events will be held in Lunada Bay! \n\nParkland across street from Lunada Bay Elementary (Paseo Lunado & Via Anacapa)\nLunada Bay Park (PVDW & Via Anacapa)\n\nThe Lunada Bay events both occur 3 pm to 5 pm on Sunday\, May 22. \nThis event is partially supported by the Lunada Market & Deli\, who has offered a complimentary ice cream cone with any purchase of $20 or more in the Market that day!  To take advantage\, just mention “Neighbors Meeting Neighbors” at time of purchase. \n\nThe events will be at 4 other locations at various times within our City (Valmonte\, Malaga Cove\, and Montemalaga)\, with caravan stops and special activities at each of the locations. \nFind locations and times on the PVE Neighborhood Watch website: \nSUNDAY AFTERNOON\, May 22\, Neighbors Meeting Neighbors Event  \nWe look forward to seeing you at the event!
URL:https://www.lbhoa.org/event/pve-neighborhood-watch-neighbors-meeting-neighbors-event/
LOCATION:CA
END:VEVENT
BEGIN:VEVENT
DTSTART;TZID=America/Los_Angeles:20220519T120000
DTEND;TZID=America/Los_Angeles:20220519T130000
DTSTAMP:20260423T160709
CREATED:20220405T215122Z
LAST-MODIFIED:20220405T215235Z
UID:4921-1652961600-1652965200@www.lbhoa.org
SUMMARY:Finance Learning Webinar #3
DESCRIPTION:Coordinating Investing & Estate Planning \n05/19/22 12pm-1pm PST \nInvesting and estate planning are often handled separately. This discussion will focus on some of the considerations and benefits of coordinating these two parts of financial planning more closely. \nWebinar Link: https://us02web.zoom.us/j/6891635652
URL:https://www.lbhoa.org/event/finance-learning-webinar-3/
LOCATION:CA
END:VEVENT
BEGIN:VEVENT
DTSTART;VALUE=DATE:20220514
DTEND;VALUE=DATE:20220515
DTSTAMP:20260423T160709
CREATED:20220419T194105Z
LAST-MODIFIED:20220420T202443Z
UID:5079-1652486400-1652572799@www.lbhoa.org
SUMMARY:Bulky Item Trash Pickup
DESCRIPTION:This May 14 Bulky Trash Pickup is a re-schedule of the event originally planned for April 30\, but moved to de-conflict with the LPGA tournament. \nFor the latest update on scheduled special collection events\, check the City Of PVE website by visiting https://www.pvestates.org/services/public-works/refuse-and-recycling/special-collection-events
URL:https://www.lbhoa.org/event/bulky-item-trash-pickup-3/
LOCATION:CA
END:VEVENT
BEGIN:VEVENT
DTSTART;VALUE=DATE:20220425
DTEND;VALUE=DATE:20220502
DTSTAMP:20260423T160709
CREATED:20220419T164220Z
LAST-MODIFIED:20220419T164528Z
UID:5075-1650844800-1651449599@www.lbhoa.org
SUMMARY:LPGA Tournament
DESCRIPTION:For the first time\, The Ladies Professional Golf Association (LPGA) will be hosting the Palos Verdes Championship\, a tournament at the Palos Verdes Golf Club from Monday\, April 25th through Sunday\, May 1st\, 2022. The first three days of the event will be closed to the public for practice rounds and a Pro-Am Tournament. Round one of the live televised golf tournament will start on Thursday\, April 28th with rounds two through four following each day. \nDuring the week\, there will be traffic\, parking\, and trash collection restrictions.  For more information\, visit the PVE website at https://www.pvestates.org/Home/Components/News/News/3376/183?backlist=%2F
URL:https://www.lbhoa.org/event/lpga-tournament/
LOCATION:Palos Verdes Golf Club\, 3301 Via Campesina\, Palos Verdes Estates\, CA\, 90274\, United States
END:VEVENT
BEGIN:VEVENT
DTSTART;TZID=America/Los_Angeles:20220418T120000
DTEND;TZID=America/Los_Angeles:20220418T120000
DTSTAMP:20260423T160709
CREATED:20220328T213100Z
LAST-MODIFIED:20220329T001018Z
UID:4819-1650283200-1650283200@www.lbhoa.org
SUMMARY:The Olmsted Legacy in Palos Verdes: Enriching the Modern City
DESCRIPTION:Join LBHOA and PVHA Board Member Marlene Breene as she presents an Olmsted lecture at the library. This event is part of the Olmsted 200 celebration and co-sponsored by the Point Vicente Chapter of the NDAR and PVHA as part of the Harry Brandel Lecture Series
URL:https://www.lbhoa.org/event/the-olmsted-legacy-in-palos-verdes-enriching-the-modern-city/
LOCATION:Palos Verdes Peninsula Center Library\, 701 Silver Spur Rd\, Rolling Hills Estates\, CA\, 90274
END:VEVENT
BEGIN:VEVENT
DTSTART;VALUE=DATE:20220409
DTEND;VALUE=DATE:20220410
DTSTAMP:20260423T160709
CREATED:20220325T012406Z
LAST-MODIFIED:20220419T162543Z
UID:4779-1649462400-1649548799@www.lbhoa.org
SUMMARY:Free Compost
DESCRIPTION:For the latest update on scheduled special collection events\, check the City Of PVE website by visiting https://www.pvestates.org/services/public-works/refuse-and-recycling/special-collection-events
URL:https://www.lbhoa.org/event/free-compost/
LOCATION:Palos Verdes Estates City Hall
END:VEVENT
BEGIN:VEVENT
DTSTART;TZID=America/Los_Angeles:20220407T120000
DTEND;TZID=America/Los_Angeles:20220407T130000
DTSTAMP:20260423T160709
CREATED:20220405T214945Z
LAST-MODIFIED:20220405T215215Z
UID:4919-1649332800-1649336400@www.lbhoa.org
SUMMARY:Finance Learning Webinar #2
DESCRIPTION:Metaverse Investing \n04/07/22 12pm-1pm PST \nA beginner’s guide to the broad concept of investing in the Metaverse\, including an overview of cryptocurrencies\, digital infrastructure\, decentralized finance\, artificial intelligence\, digital assets\, NFTs\, gaming and other aspects of Metaverse investing. \nWebinar Link: https://us02web.zoom.us/j/6891635652
URL:https://www.lbhoa.org/event/finance-learning-webinar-2/
LOCATION:CA
END:VEVENT
BEGIN:VEVENT
DTSTART;TZID=America/Los_Angeles:20220326T080000
DTEND;TZID=America/Los_Angeles:20220326T120000
DTSTAMP:20260423T160709
CREATED:20220325T012114Z
LAST-MODIFIED:20220325T012114Z
UID:4776-1648281600-1648296000@www.lbhoa.org
SUMMARY:Shred and E-Waste Event
DESCRIPTION:
URL:https://www.lbhoa.org/event/shred-and-e-waste-event/
LOCATION:Palos Verdes High School\, 600 Cloyden Road\, Palos Verdes Estates\, CA\, 90274\, United States
END:VEVENT
BEGIN:VEVENT
DTSTART;TZID=America/Los_Angeles:20211215T160000
DTEND;TZID=America/Los_Angeles:20211215T190000
DTSTAMP:20260423T160709
CREATED:20211201T215614Z
LAST-MODIFIED:20211213T233117Z
UID:4636-1639584000-1639594800@www.lbhoa.org
SUMMARY:Santa in the Park!
DESCRIPTION:We will be emphasizing COVID Safety! \n\nPlease plan to visit Santa in the time slot allocated to your last name:\n\n\n\nLast Name Starting Letter\nTime Slot\n\n\nA-G\n4 – 5 pm\n\n\nH-O\n5 – 6 pm\n\n\nP-Z\n6 – 7 pm\n\n\n\n\nSanta will sit 3 feet from his visitors. Please maintain safe distance between families in line​\n\n\n\nJoin us as we celebrate the LBHOA Annual Santa-in-the-Park event! \n\n\nVisit with Santa\nTrackless Train\nPhoto Opportunities\nMusic\n\n                and \n\nSNOW right here in Lunada Bay!\n\n\nBe sure to dress in your winter jacket and bring mittens and a hat ! !
URL:https://www.lbhoa.org/event/santa-in-the-park-3/
LOCATION:Lunada Bay Plaza\, 2201 Palos Verdes Drive West\, Palos Verdes Estates\, CA\, 90274\, United States
END:VEVENT
BEGIN:VEVENT
DTSTART;TZID=America/Los_Angeles:20191211T160000
DTEND;TZID=America/Los_Angeles:20191211T190000
DTSTAMP:20260423T160709
CREATED:20191130T183931Z
LAST-MODIFIED:20191130T183931Z
UID:4549-1576080000-1576090800@www.lbhoa.org
SUMMARY:Santa's Visit to Lunada Bay
DESCRIPTION:
URL:https://www.lbhoa.org/event/santas-visit-to-lunada-bay/
LOCATION:Lunada Bay Park\, 2201 Palos Verdes Dr W\, Palos Verdes Estates\, CA\, 90274
END:VEVENT
BEGIN:VEVENT
DTSTART;TZID=America/Los_Angeles:20190825T170000
DTEND;TZID=America/Los_Angeles:20190825T190000
DTSTAMP:20260423T160709
CREATED:20190523T210958Z
LAST-MODIFIED:20190523T210958Z
UID:4395-1566752400-1566759600@www.lbhoa.org
SUMMARY:Tenn West Concert — Country Western
DESCRIPTION:
URL:https://www.lbhoa.org/event/tenn-west-concert-country-western/
LOCATION:Lunada Bay Park\, 2201 Palos Verdes Dr W\, Palos Verdes Estates\, CA\, 90274
END:VEVENT
BEGIN:VEVENT
DTSTART;TZID=America/Los_Angeles:20190811T170000
DTEND;TZID=America/Los_Angeles:20190811T190000
DTSTAMP:20260423T160709
CREATED:20190523T210913Z
LAST-MODIFIED:20190523T210913Z
UID:4393-1565542800-1565550000@www.lbhoa.org
SUMMARY:Hollywood Stones Concert — Rolling Stones Covers
DESCRIPTION:
URL:https://www.lbhoa.org/event/hollywood-stones-concert-rolling-stones-covers/
LOCATION:Lunada Bay Park\, 2201 Palos Verdes Dr W\, Palos Verdes Estates\, CA\, 90274
END:VEVENT
BEGIN:VEVENT
DTSTART;TZID=America/Los_Angeles:20190728T170000
DTEND;TZID=America/Los_Angeles:20190728T190000
DTSTAMP:20260423T160709
CREATED:20190523T210822Z
LAST-MODIFIED:20190722T175352Z
UID:4391-1564333200-1564340400@www.lbhoa.org
SUMMARY:Hawaiian Luau
DESCRIPTION:
URL:https://www.lbhoa.org/event/hawaiian-luau-movie-in-the-park/
LOCATION:Lunada Bay Park\, 2201 Palos Verdes Dr W\, Palos Verdes Estates\, CA\, 90274
END:VEVENT
BEGIN:VEVENT
DTSTART;TZID=America/Los_Angeles:20190714T170000
DTEND;TZID=America/Los_Angeles:20190714T190000
DTSTAMP:20260423T160709
CREATED:20190523T210742Z
LAST-MODIFIED:20190523T210742Z
UID:4389-1563123600-1563130800@www.lbhoa.org
SUMMARY:Peninsula Symphonic Winds
DESCRIPTION:
URL:https://www.lbhoa.org/event/peninsula-symphonic-winds-2/
LOCATION:Palos Verdes High School\, 600 Cloyden Road\, Palos Verdes Estates\, CA\, 90274\, United States
END:VEVENT
BEGIN:VEVENT
DTSTART;TZID=America/Los_Angeles:20190623T170000
DTEND;TZID=America/Los_Angeles:20190623T190000
DTSTAMP:20260423T160709
CREATED:20190523T210634Z
LAST-MODIFIED:20190523T210634Z
UID:4387-1561309200-1561316400@www.lbhoa.org
SUMMARY:Beatles Sing-a-Long Concert
DESCRIPTION:
URL:https://www.lbhoa.org/event/beatles-sing-a-long-concert/
LOCATION:Lunada Bay Park\, 2201 Palos Verdes Dr W\, Palos Verdes Estates\, CA\, 90274
END:VEVENT
BEGIN:VEVENT
DTSTART;TZID=America/Los_Angeles:20190602T170000
DTEND;TZID=America/Los_Angeles:20190602T190000
DTSTAMP:20260423T160709
CREATED:20190523T210523Z
LAST-MODIFIED:20190523T210523Z
UID:4385-1559494800-1559502000@www.lbhoa.org
SUMMARY:Member's Only Concert — 80s Hits
DESCRIPTION:
URL:https://www.lbhoa.org/event/members-only-concert-80s-hits/
LOCATION:Lunada Bay Park\, 2201 Palos Verdes Dr W\, Palos Verdes Estates\, CA\, 90274
END:VEVENT
BEGIN:VEVENT
DTSTART;TZID=America/Los_Angeles:20181212T160000
DTEND;TZID=America/Los_Angeles:20181212T190000
DTSTAMP:20260423T160709
CREATED:20181206T190150Z
LAST-MODIFIED:20181206T190150Z
UID:4319-1544630400-1544641200@www.lbhoa.org
SUMMARY:Santa's Vists to Lunada Bay
DESCRIPTION:
URL:https://www.lbhoa.org/event/santas-vists-to-lunada-bay/
LOCATION:CA
END:VEVENT
BEGIN:VEVENT
DTSTART;TZID=America/Los_Angeles:20181021T140000
DTEND;TZID=America/Los_Angeles:20181021T180000
DTSTAMP:20260423T160709
CREATED:20180723T031113Z
LAST-MODIFIED:20180923T155527Z
UID:4127-1540130400-1540144800@www.lbhoa.org
SUMMARY:Harvest Festival
DESCRIPTION:
URL:https://www.lbhoa.org/event/harvest-festival/
LOCATION:Lunada Bay Park\, 2201 Palos Verdes Dr W\, Palos Verdes Estates\, CA\, 90274
END:VEVENT
BEGIN:VEVENT
DTSTART;TZID=America/Los_Angeles:20180923T170000
DTEND;TZID=America/Los_Angeles:20180923T200000
DTSTAMP:20260423T160709
CREATED:20180824T000049Z
LAST-MODIFIED:20180829T170118Z
UID:4172-1537722000-1537732800@www.lbhoa.org
SUMMARY:Annual Member's Social
DESCRIPTION:Please join the Lunada Bay Homeowners Association for our Annual Member’s Social on Sunday\, September 23rd in the courtyard of the Lunada Bay Patio Building. Enjoy live entertainment\, food\, and fun as we share all the benefits the LBHOA has been working to provide to the community. \nSmall plates and hors-d’oeuvres provided. Adult beverages available for purchase. \nThis free event is open to active LBHOA members and their families. If you have not received an invitation via email\, please contact us at info@lbhoa.org.
URL:https://www.lbhoa.org/event/annual-members-social/
LOCATION:Lunada Bay Patio Building\, 2325 Palos Verdes Dr W\, Palos Verdes Estates\, CA\, 90274
END:VEVENT
BEGIN:VEVENT
DTSTART;TZID=America/Los_Angeles:20180826T150000
DTEND;TZID=America/Los_Angeles:20180826T170000
DTSTAMP:20260423T160709
CREATED:20180514T020151Z
LAST-MODIFIED:20180515T055855Z
UID:3814-1535295600-1535302800@www.lbhoa.org
SUMMARY:Tenn West (Country Western)
DESCRIPTION:Sponsored by Dede Hsu
URL:https://www.lbhoa.org/event/members-only-80s-covers/
LOCATION:Lunada Bay Park\, 2201 Palos Verdes Dr W\, Palos Verdes Estates\, CA\, 90274
END:VEVENT
BEGIN:VEVENT
DTSTART;TZID=America/Los_Angeles:20180812T170000
DTEND;TZID=America/Los_Angeles:20180812T190000
DTSTAMP:20260423T160709
CREATED:20180515T054822Z
LAST-MODIFIED:20180517T200413Z
UID:3884-1534093200-1534100400@www.lbhoa.org
SUMMARY:Random Sequence (Jason Buck's Original Jam Band)
DESCRIPTION:
URL:https://www.lbhoa.org/event/random-sequence-jason-buck-folk-rock-originals/
LOCATION:Lunada Bay Park\, 2201 Palos Verdes Dr W\, Palos Verdes Estates\, CA\, 90274
END:VEVENT
BEGIN:VEVENT
DTSTART;TZID=America/Los_Angeles:20180722T170000
DTEND;TZID=America/Los_Angeles:20180722T190000
DTSTAMP:20260423T160709
CREATED:20180514T020056Z
LAST-MODIFIED:20180515T060531Z
UID:3812-1532278800-1532286000@www.lbhoa.org
SUMMARY:Hollywood U2 (U2 Tribute Band)
DESCRIPTION:Sponsored by Forum Law Partners
URL:https://www.lbhoa.org/event/hollywood-u2-u2-tribute-band/
LOCATION:Lunada Bay Park\, 2201 Palos Verdes Dr W\, Palos Verdes Estates\, CA\, 90274
END:VEVENT
BEGIN:VEVENT
DTSTART;TZID=America/Los_Angeles:20180708T170000
DTEND;TZID=America/Los_Angeles:20180708T190000
DTSTAMP:20260423T160709
CREATED:20180514T015750Z
LAST-MODIFIED:20180517T222455Z
UID:3810-1531069200-1531076400@www.lbhoa.org
SUMMARY:Peninsula Symphonic Winds
DESCRIPTION:
URL:https://www.lbhoa.org/event/peninsula-symphonic-winds/
LOCATION:Palos Verdes High School\, 600 Cloyden Road\, Palos Verdes Estates\, CA\, 90274\, United States
END:VEVENT
END:VCALENDAR