BEGIN:VCALENDAR
VERSION:2.0
PRODID:-//LBHOA - ECPv6.15.16.1//NONSGML v1.0//EN
CALSCALE:GREGORIAN
METHOD:PUBLISH
X-WR-CALNAME:LBHOA
X-ORIGINAL-URL:https://www.lbhoa.org
X-WR-CALDESC:Events for LBHOA
REFRESH-INTERVAL;VALUE=DURATION:PT1H
X-Robots-Tag:noindex
X-PUBLISHED-TTL:PT1H
BEGIN:VTIMEZONE
TZID:America/Los_Angeles
BEGIN:DAYLIGHT
TZOFFSETFROM:-0800
TZOFFSETTO:-0700
TZNAME:PDT
DTSTART:20160313T100000
END:DAYLIGHT
BEGIN:STANDARD
TZOFFSETFROM:-0700
TZOFFSETTO:-0800
TZNAME:PST
DTSTART:20161106T090000
END:STANDARD
BEGIN:DAYLIGHT
TZOFFSETFROM:-0800
TZOFFSETTO:-0700
TZNAME:PDT
DTSTART:20170312T100000
END:DAYLIGHT
BEGIN:STANDARD
TZOFFSETFROM:-0700
TZOFFSETTO:-0800
TZNAME:PST
DTSTART:20171105T090000
END:STANDARD
BEGIN:DAYLIGHT
TZOFFSETFROM:-0800
TZOFFSETTO:-0700
TZNAME:PDT
DTSTART:20180311T100000
END:DAYLIGHT
BEGIN:STANDARD
TZOFFSETFROM:-0700
TZOFFSETTO:-0800
TZNAME:PST
DTSTART:20181104T090000
END:STANDARD
BEGIN:DAYLIGHT
TZOFFSETFROM:-0800
TZOFFSETTO:-0700
TZNAME:PDT
DTSTART:20190310T100000
END:DAYLIGHT
BEGIN:STANDARD
TZOFFSETFROM:-0700
TZOFFSETTO:-0800
TZNAME:PST
DTSTART:20191103T090000
END:STANDARD
BEGIN:DAYLIGHT
TZOFFSETFROM:-0800
TZOFFSETTO:-0700
TZNAME:PDT
DTSTART:20200308T100000
END:DAYLIGHT
BEGIN:STANDARD
TZOFFSETFROM:-0700
TZOFFSETTO:-0800
TZNAME:PST
DTSTART:20201101T090000
END:STANDARD
END:VTIMEZONE
BEGIN:VEVENT
DTSTART;TZID=America/Los_Angeles:20190811T170000
DTEND;TZID=America/Los_Angeles:20190811T190000
DTSTAMP:20260425T042436
CREATED:20190523T210913Z
LAST-MODIFIED:20190523T210913Z
UID:4393-1565542800-1565550000@www.lbhoa.org
SUMMARY:Hollywood Stones Concert — Rolling Stones Covers
DESCRIPTION:
URL:https://www.lbhoa.org/event/hollywood-stones-concert-rolling-stones-covers/
LOCATION:Lunada Bay Park\, 2201 Palos Verdes Dr W\, Palos Verdes Estates\, CA\, 90274
END:VEVENT
BEGIN:VEVENT
DTSTART;TZID=America/Los_Angeles:20190728T170000
DTEND;TZID=America/Los_Angeles:20190728T190000
DTSTAMP:20260425T042436
CREATED:20190523T210822Z
LAST-MODIFIED:20190722T175352Z
UID:4391-1564333200-1564340400@www.lbhoa.org
SUMMARY:Hawaiian Luau
DESCRIPTION:
URL:https://www.lbhoa.org/event/hawaiian-luau-movie-in-the-park/
LOCATION:Lunada Bay Park\, 2201 Palos Verdes Dr W\, Palos Verdes Estates\, CA\, 90274
END:VEVENT
BEGIN:VEVENT
DTSTART;TZID=America/Los_Angeles:20190714T170000
DTEND;TZID=America/Los_Angeles:20190714T190000
DTSTAMP:20260425T042436
CREATED:20190523T210742Z
LAST-MODIFIED:20190523T210742Z
UID:4389-1563123600-1563130800@www.lbhoa.org
SUMMARY:Peninsula Symphonic Winds
DESCRIPTION:
URL:https://www.lbhoa.org/event/peninsula-symphonic-winds-2/
LOCATION:Palos Verdes High School\, 600 Cloyden Road\, Palos Verdes Estates\, CA\, 90274\, United States
END:VEVENT
BEGIN:VEVENT
DTSTART;TZID=America/Los_Angeles:20190623T170000
DTEND;TZID=America/Los_Angeles:20190623T190000
DTSTAMP:20260425T042436
CREATED:20190523T210634Z
LAST-MODIFIED:20190523T210634Z
UID:4387-1561309200-1561316400@www.lbhoa.org
SUMMARY:Beatles Sing-a-Long Concert
DESCRIPTION:
URL:https://www.lbhoa.org/event/beatles-sing-a-long-concert/
LOCATION:Lunada Bay Park\, 2201 Palos Verdes Dr W\, Palos Verdes Estates\, CA\, 90274
END:VEVENT
BEGIN:VEVENT
DTSTART;TZID=America/Los_Angeles:20190602T170000
DTEND;TZID=America/Los_Angeles:20190602T190000
DTSTAMP:20260425T042436
CREATED:20190523T210523Z
LAST-MODIFIED:20190523T210523Z
UID:4385-1559494800-1559502000@www.lbhoa.org
SUMMARY:Member's Only Concert — 80s Hits
DESCRIPTION:
URL:https://www.lbhoa.org/event/members-only-concert-80s-hits/
LOCATION:Lunada Bay Park\, 2201 Palos Verdes Dr W\, Palos Verdes Estates\, CA\, 90274
END:VEVENT
BEGIN:VEVENT
DTSTART;TZID=America/Los_Angeles:20181212T160000
DTEND;TZID=America/Los_Angeles:20181212T190000
DTSTAMP:20260425T042436
CREATED:20181206T190150Z
LAST-MODIFIED:20181206T190150Z
UID:4319-1544630400-1544641200@www.lbhoa.org
SUMMARY:Santa's Vists to Lunada Bay
DESCRIPTION:
URL:https://www.lbhoa.org/event/santas-vists-to-lunada-bay/
LOCATION:CA
END:VEVENT
BEGIN:VEVENT
DTSTART;TZID=America/Los_Angeles:20181021T140000
DTEND;TZID=America/Los_Angeles:20181021T180000
DTSTAMP:20260425T042436
CREATED:20180723T031113Z
LAST-MODIFIED:20180923T155527Z
UID:4127-1540130400-1540144800@www.lbhoa.org
SUMMARY:Harvest Festival
DESCRIPTION:
URL:https://www.lbhoa.org/event/harvest-festival/
LOCATION:Lunada Bay Park\, 2201 Palos Verdes Dr W\, Palos Verdes Estates\, CA\, 90274
END:VEVENT
BEGIN:VEVENT
DTSTART;TZID=America/Los_Angeles:20180923T170000
DTEND;TZID=America/Los_Angeles:20180923T200000
DTSTAMP:20260425T042436
CREATED:20180824T000049Z
LAST-MODIFIED:20180829T170118Z
UID:4172-1537722000-1537732800@www.lbhoa.org
SUMMARY:Annual Member's Social
DESCRIPTION:Please join the Lunada Bay Homeowners Association for our Annual Member’s Social on Sunday\, September 23rd in the courtyard of the Lunada Bay Patio Building. Enjoy live entertainment\, food\, and fun as we share all the benefits the LBHOA has been working to provide to the community. \nSmall plates and hors-d’oeuvres provided. Adult beverages available for purchase. \nThis free event is open to active LBHOA members and their families. If you have not received an invitation via email\, please contact us at info@lbhoa.org.
URL:https://www.lbhoa.org/event/annual-members-social/
LOCATION:Lunada Bay Patio Building\, 2325 Palos Verdes Dr W\, Palos Verdes Estates\, CA\, 90274
END:VEVENT
BEGIN:VEVENT
DTSTART;TZID=America/Los_Angeles:20180826T150000
DTEND;TZID=America/Los_Angeles:20180826T170000
DTSTAMP:20260425T042436
CREATED:20180514T020151Z
LAST-MODIFIED:20180515T055855Z
UID:3814-1535295600-1535302800@www.lbhoa.org
SUMMARY:Tenn West (Country Western)
DESCRIPTION:Sponsored by Dede Hsu
URL:https://www.lbhoa.org/event/members-only-80s-covers/
LOCATION:Lunada Bay Park\, 2201 Palos Verdes Dr W\, Palos Verdes Estates\, CA\, 90274
END:VEVENT
BEGIN:VEVENT
DTSTART;TZID=America/Los_Angeles:20180812T170000
DTEND;TZID=America/Los_Angeles:20180812T190000
DTSTAMP:20260425T042436
CREATED:20180515T054822Z
LAST-MODIFIED:20180517T200413Z
UID:3884-1534093200-1534100400@www.lbhoa.org
SUMMARY:Random Sequence (Jason Buck's Original Jam Band)
DESCRIPTION:
URL:https://www.lbhoa.org/event/random-sequence-jason-buck-folk-rock-originals/
LOCATION:Lunada Bay Park\, 2201 Palos Verdes Dr W\, Palos Verdes Estates\, CA\, 90274
END:VEVENT
BEGIN:VEVENT
DTSTART;TZID=America/Los_Angeles:20180722T170000
DTEND;TZID=America/Los_Angeles:20180722T190000
DTSTAMP:20260425T042436
CREATED:20180514T020056Z
LAST-MODIFIED:20180515T060531Z
UID:3812-1532278800-1532286000@www.lbhoa.org
SUMMARY:Hollywood U2 (U2 Tribute Band)
DESCRIPTION:Sponsored by Forum Law Partners
URL:https://www.lbhoa.org/event/hollywood-u2-u2-tribute-band/
LOCATION:Lunada Bay Park\, 2201 Palos Verdes Dr W\, Palos Verdes Estates\, CA\, 90274
END:VEVENT
BEGIN:VEVENT
DTSTART;TZID=America/Los_Angeles:20180708T170000
DTEND;TZID=America/Los_Angeles:20180708T190000
DTSTAMP:20260425T042436
CREATED:20180514T015750Z
LAST-MODIFIED:20180517T222455Z
UID:3810-1531069200-1531076400@www.lbhoa.org
SUMMARY:Peninsula Symphonic Winds
DESCRIPTION:
URL:https://www.lbhoa.org/event/peninsula-symphonic-winds/
LOCATION:Palos Verdes High School\, 600 Cloyden Road\, Palos Verdes Estates\, CA\, 90274\, United States
END:VEVENT
BEGIN:VEVENT
DTSTART;TZID=America/Los_Angeles:20180624T170000
DTEND;TZID=America/Los_Angeles:20180624T190000
DTSTAMP:20260425T042436
CREATED:20180514T015438Z
LAST-MODIFIED:20180515T055317Z
UID:3805-1529859600-1529866800@www.lbhoa.org
SUMMARY:Erotic City (Prince Tribute Band)
DESCRIPTION:Sponsored by Pacific Volkswagon
URL:https://www.lbhoa.org/event/erotic-city-prince-tribute-band/
LOCATION:Lunada Bay Park\, 2201 Palos Verdes Dr W\, Palos Verdes Estates\, CA\, 90274
END:VEVENT
BEGIN:VEVENT
DTSTART;TZID=America/Los_Angeles:20180616T090000
DTEND;TZID=America/Los_Angeles:20180616T120000
DTSTAMP:20260425T042436
CREATED:20180614T043938Z
LAST-MODIFIED:20180614T043938Z
UID:4094-1529139600-1529150400@www.lbhoa.org
SUMMARY:Beautify Lunada Bay—The Final Push
DESCRIPTION:We need your help! What better way to spend the day before Father’s Day with sons and daughters than to help LBHOA volunteers put the final touch on Phase 1b of Beautify Lunada Bay.  \nThis Saturday\, June 16th from 9:00 until 12:00PM we will be putting down mulch on the last part of the project site and calling it done!  We would love your help. Please consider joining us. Community service credits\, water\, and snacks are a part of the deal\, not to mention bragging rights for helping us over the goal line. Please consider joining us to help complete this section of the project. \nIf you are able to assist\, please RSVP using the form below. We look forward to seeing you and sharing in the sense of satisfaction. \n\n	Notice: JavaScript is required for this content.
URL:https://www.lbhoa.org/event/beautify-lunada-bay-the-final-push/
LOCATION:Via Anacapa and Paseo Lunado\, 500 Paseo Lunado\, Palos Verdes Estates\, CA\, 90274
END:VEVENT
BEGIN:VEVENT
DTSTART;TZID=America/Los_Angeles:20180609T090000
DTEND;TZID=America/Los_Angeles:20180609T120000
DTSTAMP:20260425T042437
CREATED:20180608T221143Z
LAST-MODIFIED:20180608T223057Z
UID:4078-1528534800-1528545600@www.lbhoa.org
SUMMARY:Beautify Lunada Bay—Irrigation & Mulch Install
DESCRIPTION:We need your help! This Saturday and Sunday\, June 9-10 from 9:00 AM to 12:00 PM\, the Beautify Lunada Bay committee starts the installation of irrigation drip-lines and laying of mulch at the corner of Via Anacapa and Paseo Lunado across from Lunada Bay Elementary. Thank you to all the volunteers that helped us complete the planting a few weeks ago. Please consider joining us to help complete this section of the project. \nIf you are able to assist\, please RSVP using the form below. We look forward to seeing you and sharing in the sense of satisfaction. \n\n	Notice: JavaScript is required for this content.
URL:https://www.lbhoa.org/event/beautify-lunada-bay-irrigation-install/
LOCATION:Via Anacapa and Paseo Lunado\, 500 Paseo Lunado\, Palos Verdes Estates\, CA\, 90274
ATTACH;FMTTYPE=image/jpeg:https://www.lbhoa.org/wp-content/uploads/IMG_2650.jpg
END:VEVENT
BEGIN:VEVENT
DTSTART;TZID=America/Los_Angeles:20180603T170000
DTEND;TZID=America/Los_Angeles:20180603T190000
DTSTAMP:20260425T042437
CREATED:20180514T015221Z
LAST-MODIFIED:20180530T040948Z
UID:3803-1528045200-1528052400@www.lbhoa.org
SUMMARY:Blue Breeze Band (Blue/R&B)
DESCRIPTION:The LBHOA Summer Concert Series kicks off this Sunday\, June 3rd at 5:00 PM with The Blue Breeze Band. One of the hottest R&B and soul groups in Los Angeles\, The Blue Breeze Band performs powerhouse hits from the 1960s and 1970s to the funkiest dance songs of today. \nMembers of The Blue Breeze Band have performed and toured with many R&B and soul legends including Smokey Robinson\, Lakeside\, The Temptations\, Mary J. Blige\, Rod Stewart\, The Brothers Johnson and Evelyn “Champagne” King. \nThe Blue Breeze Band has delighted audiences throughout California and Arizona with the finest Motown\, R&B Soul Funk and Jazz & Blues music for more than 12 years. The lively\, energetic\, dynamic musical artists bring audiences to their feet – and to the dance floor. \nSponsored by SCH&A Insurance Service\, LLC
URL:https://www.lbhoa.org/event/blue-breeze-band-blue-rb/
LOCATION:Lunada Bay Park\, 2201 Palos Verdes Dr W\, Palos Verdes Estates\, CA\, 90274
END:VEVENT
BEGIN:VEVENT
DTSTART;TZID=America/Los_Angeles:20180526T090000
DTEND;TZID=America/Los_Angeles:20180526T120000
DTSTAMP:20260425T042437
CREATED:20180524T015441Z
LAST-MODIFIED:20180524T015751Z
UID:3980-1527325200-1527336000@www.lbhoa.org
SUMMARY:Let’s Get Planting—Beautify Lunada Bay
DESCRIPTION:We need your help! This Saturday\, May 26th from 9:00 AM to 12:00 PM\, the Beautify Lunada Bay committee starts the installation of plantings on the half-acre site at the corner of Via Anacapa and Paseo Lunado across from Lunada Bay Elementary.
URL:https://www.lbhoa.org/event/lets-get-planting-beautify-lunada-bay/
LOCATION:Via Anacapa and Paseo Lunado\, 500 Paseo Lunado\, Palos Verdes Estates\, CA\, 90274
END:VEVENT
BEGIN:VEVENT
DTSTART;TZID=America/Los_Angeles:20171220T190000
DTEND;TZID=America/Los_Angeles:20171220T210000
DTSTAMP:20260425T042437
CREATED:20171209T033049Z
LAST-MODIFIED:20171220T061540Z
UID:3274-1513796400-1513803600@www.lbhoa.org
SUMMARY:Palos Verdes Homes Association Board of Directors Candidate Forum
DESCRIPTION:Every year\, the Palos Verdes Homes Association holds an election to select members of the Board of Directors.  Because the election is non-binding if the election cannot garner a quorum of you\, the PVE homeowners\, voting is very important. \nThe League of Women Voters (LWV) of Palos Verdes Peninsula will host a Candidates’ Forum so that you can meet the candidates. \nThe LWV has a distinguished history of non-partisan\, unbiased advocacy for citizen engagement in the democratic process. LWV will invite all 9 candidates in the race to the forum. Questions for the candidates will be collected ahead of time\, and provisions will be made for audience questions at the forum. The forum will be managed and moderated by an experienced set of LMV volunteers. \nThe forum will be held in the City Council Chambers\, starting at 7pm on December 20\, and continue until all questions are addressed or 9pm\, whichever is sooner. \nFor information about the election or to find out about the candidates\, please visit the PVHA website by clicking here. \nWe have now closed the question submittal.  Thank you
URL:https://www.lbhoa.org/event/palos-verdes-homes-association-board-of-directors-candidate-forum/
LOCATION:PVE Council Chambers\,  340 Palos Verdes Dr W\, Palos Verdes Estates\, CA\, 90274\, United States
END:VEVENT
BEGIN:VEVENT
DTSTART;TZID=America/Los_Angeles:20171213T160000
DTEND;TZID=America/Los_Angeles:20171213T190000
DTSTAMP:20260425T042437
CREATED:20171122T041627Z
LAST-MODIFIED:20171213T000522Z
UID:3216-1513180800-1513191600@www.lbhoa.org
SUMMARY:Santa-in-the-Park
DESCRIPTION:Join us as we celebrate the LBHOA Annual Santa-in-the-Park event! \n  \n\n\nVisit with Santa\n\n\nTrackless Train\n\n\nCookie Decorating Bar\n\n\nWrite Letters to be Delivered to Santa\n\n\nMusic\n\n\nDelicious food for purchase from Lunada Bay Market\n\n                and\n\nSNOW right here in Lunada Bay!\n\n\nBe sure to dress in your winter jacket and bring mittens and a hat\n\nGenerously sponsored by Lynn Kim
URL:https://www.lbhoa.org/event/santa-in-the-park-2/
LOCATION:Lunada Bay Plaza\, 2201 Palos Verdes Drive West\, Palos Verdes Estates\, CA\, 90274\, United States
END:VEVENT
BEGIN:VEVENT
DTSTART;TZID=America/Los_Angeles:20171022T140000
DTEND;TZID=America/Los_Angeles:20171022T180000
DTSTAMP:20260425T042437
CREATED:20170927T050459Z
LAST-MODIFIED:20171020T060828Z
UID:3073-1508680800-1508695200@www.lbhoa.org
SUMMARY:LBHOA 2017 Harvest Festival
DESCRIPTION:Mark your calendar! LBHOA will be sponsoring the 2017 Harvest Festival in October. \nJoin us for: \n\n\nPumpkin race (register below)\n\n\nKiddie Carnival\n\n\nPony rides\n\n\nVertical Trampoline\n\n\nBungy Jumping\n\n\nPetting Zoo\n\n\nRock Climbing W@all\n\n\nPace Painting\n\n\nBalloon Artist\n\n\nMembers Only Band\n\n\nFood\, Music\, and More!\n\n\nAnd for the kids\, music by Sara Dee.  Reminiscent of Norah Jones meets Raffi\, Dee independently released her full-length children’s album\, “Born Curious.” With two sold-out album release shows at the Hermosa Theater\, “Born Curious” features both new original and classic children’s songs that received national publication and international radio play.\n\n\n\nParticipate in Our Pumpkin Race!\nEnjoy a fun-spirited day with your family\, friends\, and neighbors.  Plenty of fun\, good food and activities for all! Racers must register their pumpkin using the form at the bottom of this page!\nSCHEDULE OF EVENTS: (approximate times only and subject to change) \n\n\n\nTime\n2:30 PM to 3:30 PM\n\n\nEvent\nGeneral Qualifying Races\n\n\nTime\n4:00 PM\n\n\nEvent\nQualifying Quarterfinal Race\n\n\nTime\n4:30 PM\n\n\nEvent\nQuarterfinal Race\n\n\nTime\n4:45\n\n\nEvent\nSemifinal Race\n\n\nTime\n5:00 PM\n\n\nEvent\nChampionship Race\n\n\n\nIf time permits\, late racers may be allowed to race for time for fun or may be allowed to race other late racers for a spot in a qualifier (if time permits and without interrupting the flow of the races). \n  \n\n\n\n\n	Notice: JavaScript is required for this content.\n\n\n    \n\n\n        \n        \n        \n\n\n\nBe sure to thank our sponsors who have donated to help put this event on. \n\n\n \n\n  \n\n \n\n 
URL:https://www.lbhoa.org/event/lbhoa-2017-harvest-festival/
LOCATION:Lunada Bay Plaza\, 2201 Palos Verdes Drive West\, Palos Verdes Estates\, CA\, 90274\, United States
END:VEVENT
BEGIN:VEVENT
DTSTART;TZID=America/Los_Angeles:20171018T180000
DTEND;TZID=America/Los_Angeles:20171018T200000
DTSTAMP:20260425T042437
CREATED:20171006T234541Z
LAST-MODIFIED:20171006T234541Z
UID:3113-1508349600-1508356800@www.lbhoa.org
SUMMARY:Community Conversations: PVE at 100 Years
DESCRIPTION:The City of Palos Verdes Estates\, in partnership with the Davenport Institute of Pepperdine University\, is hosting “Community Conversations: PVE at 100 Years” – a community discussion to identify the important issues facing Palos Verdes Estates in our vision for 2039. We invite you and your members to join us for an engaging\, collaborative\, and interactive dialogue about how best\, together\, we can address matters affecting the quality of life in Palos Verdes Estates. \nConversations are being hosted in each of the PVE neighborhoods\, but you can attend the one that fits your schedule: \n*Families are welcome to attend\, and food and refreshments will be provided. \n\n\n\nDate\nTime\nLocation (in Multi-Purpose Room)\n\n\nThursday\, October 12\n5:30 – 7 p.m.\nMontemalaga Elementary School\n\n\nSaturday\, October 14\n9 – 11 a.m.\nLunada Bay Elementary School\n\n\nMonday\, October 16\n6 – 8 p.m.\nValmonte Early Learning School\n\n\nWednesday\, October 18\n6 – 8 p.m.\nPVPUSD at Malaga Cove School
URL:https://www.lbhoa.org/event/community-conversations-pve-at-100-years-3/
LOCATION:PVPUSD at Malaga Cove School\, 375 Vía Almar\, Palos Verdes Estates\, CA\, 90274\, United States
END:VEVENT
BEGIN:VEVENT
DTSTART;TZID=America/Los_Angeles:20171016T180000
DTEND;TZID=America/Los_Angeles:20171016T200000
DTSTAMP:20260425T042437
CREATED:20171006T234206Z
LAST-MODIFIED:20171006T234206Z
UID:3110-1508176800-1508184000@www.lbhoa.org
SUMMARY:Community Conversations: PVE at 100 Years
DESCRIPTION:The City of Palos Verdes Estates\, in partnership with the Davenport Institute of Pepperdine University\, is hosting “Community Conversations: PVE at 100 Years” – a community discussion to identify the important issues facing Palos Verdes Estates in our vision for 2039. We invite you and your members to join us for an engaging\, collaborative\, and interactive dialogue about how best\, together\, we can address matters affecting the quality of life in Palos Verdes Estates. \nConversations are being hosted in each of the PVE neighborhoods\, but you can attend the one that fits your schedule: \n*Families are welcome to attend\, and food and refreshments will be provided. \n\n\n\nDate\nTime\nLocation (in Multi-Purpose Room)\n\n\nThursday\, October 12\n5:30 – 7 p.m.\nMontemalaga Elementary School\n\n\nSaturday\, October 14\n9 – 11 a.m.\nLunada Bay Elementary School\n\n\nMonday\, October 16\n6 – 8 p.m.\nValmonte Early Learning School\n\n\nWednesday\, October 18\n6 – 8 p.m.\nPVPUSD at Malaga Cove School
URL:https://www.lbhoa.org/event/community-conversations-pve-at-100-years-2/
LOCATION:Valmonte Early Learning Academy\, 3801 Vía La Selva\, Palos Verdes Estates\, CA\, 90274\, United States
END:VEVENT
BEGIN:VEVENT
DTSTART;TZID=America/Los_Angeles:20171014T090000
DTEND;TZID=America/Los_Angeles:20171014T110000
DTSTAMP:20260425T042437
CREATED:20171006T233929Z
LAST-MODIFIED:20171006T233929Z
UID:3107-1507971600-1507978800@www.lbhoa.org
SUMMARY:Community Conversations: PVE at 100 Years
DESCRIPTION:The City of Palos Verdes Estates\, in partnership with the Davenport Institute of Pepperdine University\, is hosting “Community Conversations: PVE at 100 Years” – a community discussion to identify the important issues facing Palos Verdes Estates in our vision for 2039. We invite you and your members to join us for an engaging\, collaborative\, and interactive dialogue about how best\, together\, we can address matters affecting the quality of life in Palos Verdes Estates. \nConversations are being hosted in each of the PVE neighborhoods\, but you can attend the one that fits your schedule: \n*Families are welcome to attend\, and food and refreshments will be provided. \n\n\n\nDate\nTime\nLocation (in Multi-Purpose Room)\n\n\nThursday\, October 12\n5:30 – 7 p.m.\nMontemalaga Elementary School\n\n\nSaturday\, October 14\n9 – 11 a.m.\nLunada Bay Elementary School\n\n\nMonday\, October 16\n6 – 8 p.m.\nValmonte Early Learning School\n\n\nWednesday\, October 18\n6 – 8 p.m.\nPVPUSD at Malaga Cove School
URL:https://www.lbhoa.org/event/community-conversations-pve-at-100-years/
LOCATION:Lunada Bay Elementary School Multi-Purpose Room\, 520 Paseo Lunado\, Palos Verdes Estates\, CA\, 90274\, United States
END:VEVENT
BEGIN:VEVENT
DTSTART;TZID=America/Los_Angeles:20171012T173000
DTEND;TZID=America/Los_Angeles:20171012T190000
DTSTAMP:20260425T042437
CREATED:20171006T193533Z
LAST-MODIFIED:20171006T233248Z
UID:3096-1507829400-1507834800@www.lbhoa.org
SUMMARY:Community Conversations: PVE at 100 Years
DESCRIPTION:The City of Palos Verdes Estates\, in partnership with the Davenport Institute of Pepperdine University\, is hosting “Community Conversations: PVE at 100 Years” – a community discussion to identify the important issues facing Palos Verdes Estates in our vision for 2039. We invite you and your members to join us for an engaging\, collaborative\, and interactive dialogue about how best\, together\, we can address matters affecting the quality of life in Palos Verdes Estates. \nConversations are being hosted in each of the PVE neighborhoods\, but you can attend the one that fits your schedule: \n*Families are welcome to attend\, and food and refreshments will be provided. \n\n\n\nDate\nTime\nLocation (in Multi-Purpose Room)\n\n\nThursday\, October 12\n5:30 – 7 p.m.\nMontemalaga Elementary School\n\n\nSaturday\, October 14\n9 – 11 a.m.\nLunada Bay Elementary School\n\n\nMonday\, October 16\n6 – 8 p.m.\nValmonte Early Learning School\n\n\nWednesday\, October 18\n6 – 8 p.m.\nPVPUSD at Malaga Cove School
URL:https://www.lbhoa.org/event/3096/
LOCATION:Montemalaga Elementary School\, 1121 Vía Nogales\, Palos Verdes Estates\, CA\, 90274\, United States
END:VEVENT
BEGIN:VEVENT
DTSTART;TZID=America/Los_Angeles:20170924T150000
DTEND;TZID=America/Los_Angeles:20170924T180000
DTSTAMP:20260425T042437
CREATED:20170917T192316Z
LAST-MODIFIED:20170917T192559Z
UID:3063-1506265200-1506276000@www.lbhoa.org
SUMMARY:Beautify Lunada Bay Fundraiser
DESCRIPTION:Did you know that LBHOA’s latest project is an effort to renew the vegetation along our bluff tops?  Phase 1 of the project will create an outdoor living laboratory on the barren land adjacent to Lunada Bay Elementary School on Paseo Lunado. \nThe Beautify Lunada Bay (BLB) steering committee is holding a fundraiser to complete financing of Phase 1 on September 24 fromt 3 – 6 pm at a private residence next to the project site. \nFor more information about the project\, visit our website at http://lbhoa.org/BeautifyLunadaBay\, or click here to visit the fundraiser page to learn more about the event.  To RSVP\, please send an email to Connie Smith at conniesmith@me.com.
URL:https://www.lbhoa.org/event/beautify-lunada-bay-fundraiser/
LOCATION:Private Residence\, 2508 Paseo del Mar\, Palos Verdes Estates\, CA\, 90274\, United States
END:VEVENT
BEGIN:VEVENT
DTSTART;TZID=America/Los_Angeles:20170923T060000
DTEND;TZID=America/Los_Angeles:20170923T060000
DTSTAMP:20260425T042437
CREATED:20170827T201759Z
LAST-MODIFIED:20170827T201759Z
UID:3031-1506146400-1506146400@www.lbhoa.org
SUMMARY:Bulky Item Pickup Day – September 23\, 2017
DESCRIPTION:The Annual Bulky Trash Pick-up event conducted by City waste hauler\, Athens\nServices\, will begin at 7:00 a.m. on Saturday\, September 23. All items should be out at\nthe front curb by 6:00am. A flyer with additional details to follow.\nBulky waste collection is available for residents. Bulky waste includes large items that\ndo not fit into barrels or bins such as: water heaters\, furnaces\, bed springs\, mattresses\,\ndressers\, couches\, washers\, dryers\, stoves\, tables\, chairs\, refrigerators\, freezers\, air\nconditioners\, patio furniture. These items are be placed at curbside (not in the street) for\npick-up on your regular trash collection day.
URL:https://www.lbhoa.org/event/bulky-item-pickup-day-september-23-2017/
LOCATION:CA
END:VEVENT
BEGIN:VEVENT
DTSTART;TZID=America/Los_Angeles:20170916T090000
DTEND;TZID=America/Los_Angeles:20170916T120000
DTSTAMP:20260425T042437
CREATED:20170908T022908Z
LAST-MODIFIED:20170908T022908Z
UID:3049-1505552400-1505563200@www.lbhoa.org
SUMMARY:Heal the Bay's Annual Coastal Cleanup
DESCRIPTION:Coastal Cleanup Day is the largest volunteer event on the planet. More than 10\,000 volunteers from all over Southern California will do their part to clean up their local beaches\, rivers\, creeks and parks. \nSince 1985\, the City of Palos Verdes Estates has teamed with Heal the Bay to host a cleanup site in Malaga Cove. Coastal Cleanup Day is a great opportunity for your family and friends to do something wonderful for our beloved beaches and oceans. \nThis year\, Coastal Cleanup Day will be on Saturday\, September 16 from 9 a.m. until 12 p.m. and there are two sites in Palos Verdes Estates (Malaga Cove and Lunada Bay). Registration for Malaga Cove will take place at Roessler Point and registration for Lunada Bay will take place at City Parklands at the intersection of Paseo Del Mar and Avenida Mirola. \nHeal the Bay is promoting zero waste and asking participants to bring their own re-usable gloves and buckets. \nFor more information or to sign up\, visit https://www.eventbrite.com/e/coastal-cleanup-day-2017-tickets-28872595711
URL:https://www.lbhoa.org/event/heal-the-bays-annual-coastal-cleanup/
LOCATION:CA
END:VEVENT
BEGIN:VEVENT
DTSTART;TZID=America/Los_Angeles:20170827T150000
DTEND;TZID=America/Los_Angeles:20170827T173000
DTSTAMP:20260425T042437
CREATED:20170821T214035Z
LAST-MODIFIED:20170821T214058Z
UID:2999-1503846000-1503855000@www.lbhoa.org
SUMMARY:LBHOA 2017 Concert-in-the-Park #6
DESCRIPTION:The final concert for the LBHOA Concert-in-the-Park 2017 series will be held on 8/27 (school night) starting at 4pm\, 2 hours earlier than our typical concerts.  We’ll be reminiscing about the music of the 80’s with Members Only\, an 80’s cover band. \nAs a special treat\, the Palos Verdes Police Officer’s Association will be on-hand to barbecue hot dogs\, and provide drinks\, chips\, and cookies!  Food starts at 3pm\, so arrive early and enjoy the best that the South Bay has to offer. \n\n \nBe sure to thank our sponsors\, who help us put on this concert series!  This week\, our concert is sponsored by Dr. Dyan Van De Velde and the gentle folks at the Lunada Bay Dental Practice.
URL:https://www.lbhoa.org/event/lbhoa-2017-concert-in-the-park-6/
LOCATION:CA
END:VEVENT
BEGIN:VEVENT
DTSTART;TZID=America/Los_Angeles:20170820T110000
DTEND;TZID=America/Los_Angeles:20170820T140000
DTSTAMP:20260425T042437
CREATED:20170817T032200Z
LAST-MODIFIED:20170817T041822Z
UID:2990-1503226800-1503237600@www.lbhoa.org
SUMMARY:Lunada Bay Market & Deli Grand Opening
DESCRIPTION:
URL:https://www.lbhoa.org/event/lunada-bay-market-deli-grand-opening/
LOCATION:Lunada Bay Plaza\, 2201 Palos Verdes Drive West\, Palos Verdes Estates\, CA\, 90274\, United States
END:VEVENT
BEGIN:VEVENT
DTSTART;TZID=America/Los_Angeles:20170813T170000
DTEND;TZID=America/Los_Angeles:20170813T193000
DTSTAMP:20260425T042437
CREATED:20170808T203749Z
LAST-MODIFIED:20170808T203749Z
UID:2986-1502643600-1502652600@www.lbhoa.org
SUMMARY:Concert-in-the-Park #5
DESCRIPTION:Tenn West\nTwo thousand miles west of Tennessee a band of veteran musicians came together to create a sound that can only be described as California Country. \nBring a picnic\, a bottle of wine\, friends\, family\, neighbors\, and your dancing boots and enjoy a return visit to Lunada Bay Park by Tenn West. \n 
URL:https://www.lbhoa.org/event/concert-in-the-park-5/
LOCATION:Lunada Bay Park\, 2201 Palos Verdes Dr W\, Palos Verdes Estates\, CA\, 90274
END:VEVENT
END:VCALENDAR