BEGIN:VCALENDAR
VERSION:2.0
PRODID:-//LBHOA - ECPv6.15.16.1//NONSGML v1.0//EN
CALSCALE:GREGORIAN
METHOD:PUBLISH
X-ORIGINAL-URL:https://www.lbhoa.org
X-WR-CALDESC:Events for LBHOA
REFRESH-INTERVAL;VALUE=DURATION:PT1H
X-Robots-Tag:noindex
X-PUBLISHED-TTL:PT1H
BEGIN:VTIMEZONE
TZID:America/Los_Angeles
BEGIN:DAYLIGHT
TZOFFSETFROM:-0800
TZOFFSETTO:-0700
TZNAME:PDT
DTSTART:20220313T100000
END:DAYLIGHT
BEGIN:STANDARD
TZOFFSETFROM:-0700
TZOFFSETTO:-0800
TZNAME:PST
DTSTART:20221106T090000
END:STANDARD
BEGIN:DAYLIGHT
TZOFFSETFROM:-0800
TZOFFSETTO:-0700
TZNAME:PDT
DTSTART:20230312T100000
END:DAYLIGHT
BEGIN:STANDARD
TZOFFSETFROM:-0700
TZOFFSETTO:-0800
TZNAME:PST
DTSTART:20231105T090000
END:STANDARD
BEGIN:DAYLIGHT
TZOFFSETFROM:-0800
TZOFFSETTO:-0700
TZNAME:PDT
DTSTART:20240310T100000
END:DAYLIGHT
BEGIN:STANDARD
TZOFFSETFROM:-0700
TZOFFSETTO:-0800
TZNAME:PST
DTSTART:20241103T090000
END:STANDARD
END:VTIMEZONE
BEGIN:VEVENT
DTSTART;TZID=America/Los_Angeles:20230709T170000
DTEND;TZID=America/Los_Angeles:20230709T190000
DTSTAMP:20260425T155127
CREATED:20230709T164943Z
LAST-MODIFIED:20230709T165028Z
UID:6289-1688922000-1688929200@www.lbhoa.org
SUMMARY:Summer Concert -- Peninsula Symphonic Winds
DESCRIPTION:The LBHOA is excited to remind you that our Summer Concert Series will continue today at 5pm at the Palos Verdes High School. We have a great lineup for you this year. From new bands to fan favorites returning – it’s sure to be a festive concert season. \nPlease join the Peninsula Symphonic Winds for a free concert. Music Director Justin Raines will lead the band’s annual free concert. Bring a snack\, lawn chair\, or blanket\, sit under the trees in the beautiful Sea King Park and enjoy a free outdoor pops concert. \n 
URL:https://www.lbhoa.org/event/summer-concert-peninsula-symphonic-winds/
LOCATION:Palos Verdes High School\, 600 Cloyden Road\, Palos Verdes Estates\, CA\, 90274\, United States
END:VEVENT
END:VCALENDAR