BEGIN:VCALENDAR
VERSION:2.0
PRODID:-//LBHOA - ECPv6.15.16.1//NONSGML v1.0//EN
CALSCALE:GREGORIAN
METHOD:PUBLISH
X-WR-CALNAME:LBHOA
X-ORIGINAL-URL:https://www.lbhoa.org
X-WR-CALDESC:Events for LBHOA
REFRESH-INTERVAL;VALUE=DURATION:PT1H
X-Robots-Tag:noindex
X-PUBLISHED-TTL:PT1H
BEGIN:VTIMEZONE
TZID:America/Los_Angeles
BEGIN:DAYLIGHT
TZOFFSETFROM:-0800
TZOFFSETTO:-0700
TZNAME:PDT
DTSTART:20240310T100000
END:DAYLIGHT
BEGIN:STANDARD
TZOFFSETFROM:-0700
TZOFFSETTO:-0800
TZNAME:PST
DTSTART:20241103T090000
END:STANDARD
BEGIN:DAYLIGHT
TZOFFSETFROM:-0800
TZOFFSETTO:-0700
TZNAME:PDT
DTSTART:20250309T100000
END:DAYLIGHT
BEGIN:STANDARD
TZOFFSETFROM:-0700
TZOFFSETTO:-0800
TZNAME:PST
DTSTART:20251102T090000
END:STANDARD
BEGIN:DAYLIGHT
TZOFFSETFROM:-0800
TZOFFSETTO:-0700
TZNAME:PDT
DTSTART:20260308T100000
END:DAYLIGHT
BEGIN:STANDARD
TZOFFSETFROM:-0700
TZOFFSETTO:-0800
TZNAME:PST
DTSTART:20261101T090000
END:STANDARD
END:VTIMEZONE
BEGIN:VEVENT
DTSTART;TZID=America/Los_Angeles:20250920T080000
DTEND;TZID=America/Los_Angeles:20250920T170000
DTSTAMP:20260423T190436
CREATED:20250919T180159Z
LAST-MODIFIED:20250919T180310Z
UID:8000-1758355200-1758387600@www.lbhoa.org
SUMMARY:Bulky Item/E-Waste Event
DESCRIPTION:Mark your calendars! Athens Services will provide a free curbside pick-up for bulky waste and electronic waste on Saturday\, September 20\, 2025 \n\nBulky Waste: furniture\, appliances\, mattresses\, and similar large household items\nE-Waste: televisions\, computers\, monitors\, printers\, and other electronics\n\nAll items must be places at the curb – not in the street – by 6:00 AM on the morning of the event \n \n\n\n\n\n\nBulky Waste includes large items that do not fit into barrels or bins such as:  water heaters\, furnaces\, bed springs\, mattresses\, dressers\, couches\, washers\, dryers\, stoves\, tables\, chairs\, refrigerators (compressors removed)\, freezers\, air conditioners\, and patio furniture.  These items are to be placed curbside (not in the street). \nE-waste includes TV’s\, radios\, printers\, DVD Players\, computers\, monitors\, microwaves\, etc. For additional information on e-waste and e-waste collection\, please visit the E-waste webpage. \nNote: Hazardous waste\, batteries and fluorescent lights will be accepted at the 1st Quarter event only. To dispose of these items at other times\, and to dispose of all other hazardous waste\, please visit the Used Oil and Household Hazardous Waste webpage.
URL:https://www.lbhoa.org/event/bulky-item-e-waste-event/
END:VEVENT
BEGIN:VEVENT
DTSTART;TZID=America/Los_Angeles:20250923T190000
DTEND;TZID=America/Los_Angeles:20250923T203000
DTSTAMP:20260423T190436
CREATED:20250916T205855Z
LAST-MODIFIED:20250916T205855Z
UID:7993-1758654000-1758659400@www.lbhoa.org
SUMMARY:LBHOA Town Hall Meeting
DESCRIPTION:The Lunada Bay Homeowners Association (LBHOA) Board of Directors is holding an open meeting in the Multipurpose Room at Lunada Bay Elementary School to provide an overview of recent activities organized by LBHOA and to solicit ideas and suggestions for new projects that might “maintain and improve the quality of life” in our unique community. \nA bit of background:  In the fall of 1999\, enthusiastic residents of the Lunada Bay community met and formed a committee to address their common goals. Noting that it takes a love of community\, respect for our surroundings\, and a willingness to work to improve the unique setting we live in\, founders said the role of the LBHOA should be to: \n\nMaintain and improve the quality of life in Lunada Bay and foster projects to achieve that goal\,\nPromote and encourage participation of residents in community activities and civic affairs\,\nBring to the attention of elected officials City matters that are important to our residents and offer suggested resolutions.\n\nFor over 20 years\, LBHOA volunteers have developed and participated in community-led projects that support these original goals. \nPlease join us on September 23. We look forward to your input. \nBill Ailor\, President\nLunada Bay Homeowners Association
URL:https://www.lbhoa.org/event/lbhoa-town-hall-meeting/
LOCATION:Lunada Bay Elementary School Multi-Purpose Room\, 520 Paseo Lunado\, Palos Verdes Estates\, CA\, 90274\, United States
END:VEVENT
END:VCALENDAR