BEGIN:VCALENDAR
VERSION:2.0
PRODID:-//LBHOA - ECPv6.15.16.1//NONSGML v1.0//EN
CALSCALE:GREGORIAN
METHOD:PUBLISH
X-ORIGINAL-URL:https://www.lbhoa.org
X-WR-CALDESC:Events for LBHOA
REFRESH-INTERVAL;VALUE=DURATION:PT1H
X-Robots-Tag:noindex
X-PUBLISHED-TTL:PT1H
BEGIN:VTIMEZONE
TZID:America/Los_Angeles
BEGIN:DAYLIGHT
TZOFFSETFROM:-0800
TZOFFSETTO:-0700
TZNAME:PDT
DTSTART:20240310T100000
END:DAYLIGHT
BEGIN:STANDARD
TZOFFSETFROM:-0700
TZOFFSETTO:-0800
TZNAME:PST
DTSTART:20241103T090000
END:STANDARD
BEGIN:DAYLIGHT
TZOFFSETFROM:-0800
TZOFFSETTO:-0700
TZNAME:PDT
DTSTART:20250309T100000
END:DAYLIGHT
BEGIN:STANDARD
TZOFFSETFROM:-0700
TZOFFSETTO:-0800
TZNAME:PST
DTSTART:20251102T090000
END:STANDARD
BEGIN:DAYLIGHT
TZOFFSETFROM:-0800
TZOFFSETTO:-0700
TZNAME:PDT
DTSTART:20260308T100000
END:DAYLIGHT
BEGIN:STANDARD
TZOFFSETFROM:-0700
TZOFFSETTO:-0800
TZNAME:PST
DTSTART:20261101T090000
END:STANDARD
END:VTIMEZONE
BEGIN:VEVENT
DTSTART;TZID=America/Los_Angeles:20251018T170000
DTEND;TZID=America/Los_Angeles:20251018T200000
DTSTAMP:20260423T173234
CREATED:20250916T210551Z
LAST-MODIFIED:20250916T210551Z
UID:7998-1760806800-1760817600@www.lbhoa.org
SUMMARY:Diwali--Lunada Bay's Festival of Lights
DESCRIPTION:
URL:https://www.lbhoa.org/event/diwali-lunada-bays-festival-of-lights-2/
LOCATION:Lunada Bay Park\, 2201 Palos Verdes Dr W\, Palos Verdes Estates\, CA\, 90274
END:VEVENT
BEGIN:VEVENT
DTSTART;TZID=America/Los_Angeles:20251026T140000
DTEND;TZID=America/Los_Angeles:20251026T180000
DTSTAMP:20260423T173234
CREATED:20251012T234707Z
LAST-MODIFIED:20251021T234750Z
UID:8010-1761487200-1761501600@www.lbhoa.org
SUMMARY:2025 Harvest Festival
DESCRIPTION:  \n \nSchedule of Events: \nThe Harvest Festival event runs from 2:00pm-6:00pm with a trackless train\, face painting\, caricature artist\, numerous booths\, and live music throughout the event. \n\n\n\n\nTime\n\n\nEvent\n\n\n\n2:00pm – 3:00pm\nPumpkin Race check-in\n\n\n3:00pm\nPumpkin Races Start\n\n\n4:30pm – 6pm\nBig Heart Band Performs\n\n\n\nPumpkin Race duration depends on how many pumpkin entries we get\, but generally lasts an hour- hour and a half.\n  \n\nContestants provide their own pumpkin. Pumpkin wheel kits are available for purchase at Lunada Bay Hardware store for $40. They also offer installation service of the axles and wheels for $25\, as long as you bring your pumpkin and kit to them before closing (6pm) on Saturday 10/25. For race day installation\, the price increases to $35.\n\nPlease note: The Harvest Festival is free for all members of our community; however\, there will be a $30 fee for non-members to participate in the Pumpkin Race.\n \nLoading… \nWe would like to thank our sponsors who\, along with our members\, make this event possible:
URL:https://www.lbhoa.org/event/2025-harvest-festival/
LOCATION:Lunada Bay Park\, 2201 Palos Verdes Dr W\, Palos Verdes Estates\, CA\, 90274
END:VEVENT
END:VCALENDAR